BEGIN:VCALENDAR
VERSION:2.0
PRODID:-//National Council on Independent Living - ECPv6.15.20//NONSGML v1.0//EN
CALSCALE:GREGORIAN
METHOD:PUBLISH
X-ORIGINAL-URL:https://ncil.org
X-WR-CALDESC:Events for National Council on Independent Living
REFRESH-INTERVAL;VALUE=DURATION:PT1H
X-Robots-Tag:noindex
X-PUBLISHED-TTL:PT1H
BEGIN:VTIMEZONE
TZID:America/Detroit
BEGIN:DAYLIGHT
TZOFFSETFROM:-0500
TZOFFSETTO:-0400
TZNAME:EDT
DTSTART:20210314T070000
END:DAYLIGHT
BEGIN:STANDARD
TZOFFSETFROM:-0400
TZOFFSETTO:-0500
TZNAME:EST
DTSTART:20211107T060000
END:STANDARD
BEGIN:DAYLIGHT
TZOFFSETFROM:-0500
TZOFFSETTO:-0400
TZNAME:EDT
DTSTART:20220313T070000
END:DAYLIGHT
BEGIN:STANDARD
TZOFFSETFROM:-0400
TZOFFSETTO:-0500
TZNAME:EST
DTSTART:20221106T060000
END:STANDARD
BEGIN:DAYLIGHT
TZOFFSETFROM:-0500
TZOFFSETTO:-0400
TZNAME:EDT
DTSTART:20230312T070000
END:DAYLIGHT
BEGIN:STANDARD
TZOFFSETFROM:-0400
TZOFFSETTO:-0500
TZNAME:EST
DTSTART:20231105T060000
END:STANDARD
END:VTIMEZONE
BEGIN:VEVENT
DTSTART;TZID=America/Detroit:20220817T150000
DTEND;TZID=America/Detroit:20220817T163000
DTSTAMP:20260424T031905
CREATED:20240729T004727Z
LAST-MODIFIED:20241118T210212Z
UID:10000052-1660748400-1660753800@ncil.org
SUMMARY:Community Living Summit
DESCRIPTION:Archive: \n\n\n\n\nRecording\n\n\n\nPresentation (PDF)\n\n\n\n\nThe University of Kansas Research and Training Center on Independent Living in partnership with the National Council on Independent Living\, will be presenting a Community Living Summit. This webinar summit will be a presentation and forum providing information about Community Living Programs\, how Centers for Independent Living can use the programs\, and other important resources that are available. \n\n\n\nRegistration Fee: This event is free-of-charge. \n\n\n\nTarget Audience: Executive directors\, program managers\, consumers\, and staff members of Centers for Independent Living and State Independent Living Councils \n\n\n\nPresenters for the Summit include: \n\n\n\nDr. Jean P. Hall is the director of the Research and Training Center on Independent Living (RTC/IL) and the Institute for Health and Disability Policy Studies. Jean is the principal investigator (PI) for the Research and Training Center on Promoting Interventions for Community Living\, a NIDILRR-funded project\, and the PI for the Kansas Disability & Health Program\, a CDC-funded project which seeks to improve access to health promotion activities and services for Kansans with disabilities. \n\n\n\nLillie Greiman works as a Project Director at the Research and Training Center on Disability in Rural Communities (RTC:Rural) and has been with the center since 2012. She works across numerous projects with partners across the country and is passionate about the collaborative work the RTC:Rural does to improve the lives of people with disabilities in rural communities. Her focus areas are: housing\, community participation\, rural community development and spatial and demographic analysis. She’s originally from Helena\, MT but has lived in Missoula for 15 years where she attended the university and earned her MA in geography. \n\n\n\nKelsey Goddard is an associate researcher at the Research and Training Center on Independent Living (RTC/IL). Kelsey works with Centers for Independent Living (CILs) across the United States to document the effects that CIL services have on consumers with disabilities. Kelsey has presented research findings to the United States Access Board in Washington\, DC and served as a committee member on the Kansas Commission on Disability Concerns in Topeka\, KS. Kelsey identifies as a person with a disability and strives to bring awareness to disability concerns through the intersection of research\, policy\, and advocacy. \n\n\n\nRyan Henley is a research assistant at both KU’s Research and Training Center on Independent Living and the Kansas University Center on Developmental Disabilities. Ryan graduated with an associate’s degree in general studies from Johnson County Community College\, and was a participant in the Project SEARCH program. At the RTC/IL\, he assists with literature reviews and works with survey and transcript data for Promoting Interventions for Community Living. \n\n\n\nSusan Ferguson is the Chief Program Officer at accessABILITY\, the Center for Independent Living in Central Indiana.  accessABILITY advocates with and empowers all people with disabilities through supports and services. This work allows Susan to live out her personal values of Social Justice\, Empowerment\, Dignity\, and Curiosity. Susan has spent her 30-year career in social services and nonprofit leadership. She has developed a reputation for effective supervision and team development resulting in improved retention and performance. Susan’s experience includes leadership in family preservation\, mental health services\, victim services\, and disability services. Susan earned her MBA from Western Michigan University and CFRM (Certificate in Fund Raising Management) from Indiana University’s Lilly Family School of Philanthropy.  \n\n\n\nTammy Themel is the CEO of accessABILITY\, where she carries out the strategic plans and vision established by the Board of Directors. She drives the team at accessABILITY towards “more is more” – more services\, for more people with disabilities\, leading to more independence and ultimately a better community for everyone. She is passionate about pressing for a change in the domestic violence and sexual assault that impacts persons with disabilities\, which happens at a much higher rate than the population as a whole. Tammy has an MBA from Purdue. \n\n\n\nKeshia Walker brings people and services together at accessABILITY\, Center for Independent Living in Central Indiana. Keshia is the Inclusive Employment Advocate; BIN Liaison for the Inclusive Employment Program at accessABILITY. This program opens conversations with people of all disabilities at any point along their employment journey. Keshia has a degree in Psychology/Pre-Med from IUPUI and her BIN certification from Indiana Institute on Disability and Community. Her passions include promoting access to medicine in underserved communities and advocating for inclusive and equitable employment for individuals with disabilities. Keshia is passionate about working alongside her peers with disabilities and playing a part in helping this marginalized community grow and prosper. \n\n\n\nRandi Christine Gray is a Graduate Research Assistant who does work around exercise and physical fitness for individuals with physical disabilities. She is currently in her Ph.D. program for Counseling Psychology at the University of Kansas. She holds a Master of Science in Education in Health Education and Psychology of Physical Activity\, B.A. in Psychology\, and B.A. in Writing\, Rhetoric\, and Digital Studies. Randi has previously worked as a Health Educator working with individuals with disabilities to improve their physical health. She continues to work in research on mental and physical health and is working towards her certification as a Certified Mental Performance Consultant. \n\n\n\nLyndsie Koon joined the RTC as Associate Director in October 2019. She holds a PhD in Sport and Exercise Science\, with a focus on the social psychology of sport and physical activity\, from the University of Northern Colorado. She comes to the RTC after serving as a post-doctoral research associate at the University of Illinois\, Urbana-Champaign. Her research explored the exercise challenges and needs of adults aging with long-term mobility and sensory disabilities and evaluated the potential of various technologies to support and motivate physical activity participation. At the RTC\, she focuses on physical activity and disability and assists with measuring the impact of the Home Usability and Out and About interventions on participants’ home usability\, community engagement\, problem-solving skills\, and self-determination.
URL:https://ncil.org/event/community-living-summit/
CATEGORIES:Home Usability,Members Only Content,NCIL Training On-Demand
ATTACH;FMTTYPE=image/png:https://ncil.org/wp-content/uploads/2024/10/Members-Only-Content.png
ORGANIZER;CN="NCIL":MAILTO:ncil@ncil.org
END:VEVENT
END:VCALENDAR