BEGIN:VCALENDAR
VERSION:2.0
PRODID:-//National Council on Independent Living - ECPv6.15.20//NONSGML v1.0//EN
CALSCALE:GREGORIAN
METHOD:PUBLISH
X-ORIGINAL-URL:https://ncil.org
X-WR-CALDESC:Events for National Council on Independent Living
REFRESH-INTERVAL;VALUE=DURATION:PT1H
X-Robots-Tag:noindex
X-PUBLISHED-TTL:PT1H
BEGIN:VTIMEZONE
TZID:America/Detroit
BEGIN:DAYLIGHT
TZOFFSETFROM:-0500
TZOFFSETTO:-0400
TZNAME:EDT
DTSTART:20220313T070000
END:DAYLIGHT
BEGIN:STANDARD
TZOFFSETFROM:-0400
TZOFFSETTO:-0500
TZNAME:EST
DTSTART:20221106T060000
END:STANDARD
BEGIN:DAYLIGHT
TZOFFSETFROM:-0500
TZOFFSETTO:-0400
TZNAME:EDT
DTSTART:20230312T070000
END:DAYLIGHT
BEGIN:STANDARD
TZOFFSETFROM:-0400
TZOFFSETTO:-0500
TZNAME:EST
DTSTART:20231105T060000
END:STANDARD
BEGIN:DAYLIGHT
TZOFFSETFROM:-0500
TZOFFSETTO:-0400
TZNAME:EDT
DTSTART:20240310T070000
END:DAYLIGHT
BEGIN:STANDARD
TZOFFSETFROM:-0400
TZOFFSETTO:-0500
TZNAME:EST
DTSTART:20241103T060000
END:STANDARD
END:VTIMEZONE
BEGIN:VEVENT
DTSTART;TZID=America/Detroit:20230126T130000
DTEND;TZID=America/Detroit:20230126T140000
DTSTAMP:20260423T192208
CREATED:20240724T173631Z
LAST-MODIFIED:20241021T183513Z
UID:10000050-1674738000-1674741600@ncil.org
SUMMARY:Regional IL Showcase Archives
DESCRIPTION:Archive: \n\n\n\n\nArchived webinar\n\n\n\nTranscript (Word)\n\n\n\n\nPresenters: \n\n\n\n\nAmy Tweedle\, Spa Area Independent Living Services (Hot Springs\, AR) – Amy will speak about SAILS’ program\, which combines health and wellness with emergency shelter.\n\n\n\nCandace Coleman\, Access Living of Metropolitan Chicago (Chicago\, IL) – Candace will speak on the Community Emergency Services and Supports Act (CESSA)\, which was passed into law last year. Candace will explain what CESSA is\, how it was passed\, and the steps being taken to implement it.
URL:https://ncil.org/event/regional-il-showcase-archives-2/
CATEGORIES:Members Only Content,NCIL Training On-Demand
ATTACH;FMTTYPE=image/png:https://ncil.org/wp-content/uploads/2024/10/Members-Only-Content.png
END:VEVENT
END:VCALENDAR