BEGIN:VCALENDAR
VERSION:2.0
PRODID:-//National Council on Independent Living - ECPv6.15.20//NONSGML v1.0//EN
CALSCALE:GREGORIAN
METHOD:PUBLISH
X-WR-CALNAME:National Council on Independent Living
X-ORIGINAL-URL:https://ncil.org
X-WR-CALDESC:Events for National Council on Independent Living
REFRESH-INTERVAL;VALUE=DURATION:PT1H
X-Robots-Tag:noindex
X-PUBLISHED-TTL:PT1H
BEGIN:VTIMEZONE
TZID:America/Detroit
BEGIN:DAYLIGHT
TZOFFSETFROM:-0500
TZOFFSETTO:-0400
TZNAME:EDT
DTSTART:20220313T070000
END:DAYLIGHT
BEGIN:STANDARD
TZOFFSETFROM:-0400
TZOFFSETTO:-0500
TZNAME:EST
DTSTART:20221106T060000
END:STANDARD
BEGIN:DAYLIGHT
TZOFFSETFROM:-0500
TZOFFSETTO:-0400
TZNAME:EDT
DTSTART:20230312T070000
END:DAYLIGHT
BEGIN:STANDARD
TZOFFSETFROM:-0400
TZOFFSETTO:-0500
TZNAME:EST
DTSTART:20231105T060000
END:STANDARD
BEGIN:DAYLIGHT
TZOFFSETFROM:-0500
TZOFFSETTO:-0400
TZNAME:EDT
DTSTART:20240310T070000
END:DAYLIGHT
BEGIN:STANDARD
TZOFFSETFROM:-0400
TZOFFSETTO:-0500
TZNAME:EST
DTSTART:20241103T060000
END:STANDARD
END:VTIMEZONE
BEGIN:VEVENT
DTSTART;TZID=America/Detroit:20230426T130000
DTEND;TZID=America/Detroit:20230426T140000
DTSTAMP:20260423T152703
CREATED:20240724T172657Z
LAST-MODIFIED:20241021T183706Z
UID:10000048-1682514000-1682517600@ncil.org
SUMMARY:Regional IL Showcase Archives
DESCRIPTION:Archive: \n\n\n\n\nArchived webinar\n\n\n\nTranscript (Word)\n\n\n\n\nPresenters: \n\n\n\n\nSuzanne de Beaumont\, New York Association for Independent Living (NYAIL): Suzanne will speak about the Open Doors statewide program that the NYAIL brings to 24 Centers across the state.\n\n\n\nGerilyn Capps-Anderson\, Western New York Independent Living (WNYIL) – Gerilyn will speak to the implementation of the Open Doors program at her Center for Independent Living.\n\n\n\nTodd Holloway\, Center for Independence – Todd will speak about The Coalition on Inclusive Emergency Planning. It is a statewide disability advisory group that provides technical advice on physical and programmatic accesses and effective communication strategies.
URL:https://ncil.org/event/regional-il-showcase-archives/
CATEGORIES:Members Only Content,NCIL Training On-Demand
ATTACH;FMTTYPE=image/png:https://ncil.org/wp-content/uploads/2024/10/Members-Only-Content.png
END:VEVENT
END:VCALENDAR