BEGIN:VCALENDAR
VERSION:2.0
PRODID:-//National Council on Independent Living - ECPv6.15.20//NONSGML v1.0//EN
CALSCALE:GREGORIAN
METHOD:PUBLISH
X-WR-CALNAME:National Council on Independent Living
X-ORIGINAL-URL:https://ncil.org
X-WR-CALDESC:Events for National Council on Independent Living
REFRESH-INTERVAL;VALUE=DURATION:PT1H
X-Robots-Tag:noindex
X-PUBLISHED-TTL:PT1H
BEGIN:VTIMEZONE
TZID:America/Detroit
BEGIN:DAYLIGHT
TZOFFSETFROM:-0500
TZOFFSETTO:-0400
TZNAME:EDT
DTSTART:20220313T070000
END:DAYLIGHT
BEGIN:STANDARD
TZOFFSETFROM:-0400
TZOFFSETTO:-0500
TZNAME:EST
DTSTART:20221106T060000
END:STANDARD
BEGIN:DAYLIGHT
TZOFFSETFROM:-0500
TZOFFSETTO:-0400
TZNAME:EDT
DTSTART:20230312T070000
END:DAYLIGHT
BEGIN:STANDARD
TZOFFSETFROM:-0400
TZOFFSETTO:-0500
TZNAME:EST
DTSTART:20231105T060000
END:STANDARD
BEGIN:DAYLIGHT
TZOFFSETFROM:-0500
TZOFFSETTO:-0400
TZNAME:EDT
DTSTART:20240310T070000
END:DAYLIGHT
BEGIN:STANDARD
TZOFFSETFROM:-0400
TZOFFSETTO:-0500
TZNAME:EST
DTSTART:20241103T060000
END:STANDARD
END:VTIMEZONE
BEGIN:VEVENT
DTSTART;TZID=America/Detroit:20231206T153000
DTEND;TZID=America/Detroit:20231206T160000
DTSTAMP:20260423T045523
CREATED:20240724T014550Z
LAST-MODIFIED:20241118T210136Z
UID:10000042-1701876600-1701878400@ncil.org
SUMMARY:Introducing A Home Usability Peer Network
DESCRIPTION:Webinar archive\n\n\n\nTranscript (Word)\n\n\n\nPresentation Slides (PDF)\n\n\n\n\nResources: \n\n\n\n\nAbout Home Usability\n\n\n\nHome Modifications Fact Sheet for Centers for Independent Living\n\n\n\n\nWhat is the Home Usability Peer Network? \n\n\n\nThe Home Usability Peer Network is a collaboration between the National Council on Independent Living (NCIL) and the RTC: PICL at University of Kansas to support and connect Centers for Independent Living (CILs) to resources about programs that support home modifications. \n\n\n\n\nDo you want to learn more about resources and approaches to housing programs and services?\n\n\n\nDo you want to develop a home usability or modification program at your Center?\n\n\n\nDo you want to grow and expand your current home modification programs?\n\n\n\n\nJoin us for a kick-off webinar at 3:00-4:00 p.m. Eastern on December 6 to learn more about home usability and discuss how a peer network can support your housing and home usability work. Peer calls will start in January 2024. \n\n\n\n\n\n\n\nImage: Flyer with the NCIL and Research and Training Center on Promoting Interventions for Community Living (RTC: PICL) logo and two houses. Text: Introducing a Home Usability Peer Network. December 6\, 2023; 3:00-4:00 p.m. Eastern. A kickoff webinar for CILs to connect and share resources about programs that support home usability and modification.
URL:https://ncil.org/event/introducing-a-home-usability-peer-network/
CATEGORIES:Home Usability,NCIL Training On-Demand
ATTACH;FMTTYPE=image/png:https://ncil.org/wp-content/uploads/2024/06/HUP-LOGO.png
END:VEVENT
END:VCALENDAR