BEGIN:VCALENDAR
VERSION:2.0
PRODID:-//National Council on Independent Living - ECPv6.15.20//NONSGML v1.0//EN
CALSCALE:GREGORIAN
METHOD:PUBLISH
X-ORIGINAL-URL:https://ncil.org
X-WR-CALDESC:Events for National Council on Independent Living
REFRESH-INTERVAL;VALUE=DURATION:PT1H
X-Robots-Tag:noindex
X-PUBLISHED-TTL:PT1H
BEGIN:VTIMEZONE
TZID:America/Detroit
BEGIN:DAYLIGHT
TZOFFSETFROM:-0500
TZOFFSETTO:-0400
TZNAME:EDT
DTSTART:20230312T070000
END:DAYLIGHT
BEGIN:STANDARD
TZOFFSETFROM:-0400
TZOFFSETTO:-0500
TZNAME:EST
DTSTART:20231105T060000
END:STANDARD
BEGIN:DAYLIGHT
TZOFFSETFROM:-0500
TZOFFSETTO:-0400
TZNAME:EDT
DTSTART:20240310T070000
END:DAYLIGHT
BEGIN:STANDARD
TZOFFSETFROM:-0400
TZOFFSETTO:-0500
TZNAME:EST
DTSTART:20241103T060000
END:STANDARD
BEGIN:DAYLIGHT
TZOFFSETFROM:-0500
TZOFFSETTO:-0400
TZNAME:EDT
DTSTART:20250309T070000
END:DAYLIGHT
BEGIN:STANDARD
TZOFFSETFROM:-0400
TZOFFSETTO:-0500
TZNAME:EST
DTSTART:20251102T060000
END:STANDARD
END:VTIMEZONE
BEGIN:VEVENT
DTSTART;TZID=America/Detroit:20240131T140000
DTEND;TZID=America/Detroit:20240131T150000
DTSTAMP:20260423T015557
CREATED:20240724T013059Z
LAST-MODIFIED:20240729T032639Z
UID:10000040-1706709600-1706713200@ncil.org
SUMMARY:IL Network and ADVC Update and Community Listening Session
DESCRIPTION:Webinar archive\n\n\n\nTranscript\n\n\n\n\nThe National Council on Independent Living (NCIL)\, in collaboration with the Aging and Disability Vaccination Collaborative (ADVC) powered by USAging\, invites Centers for Independent Living\, ADVC grantees\, and the Independent Living Network to participate in a webinar offering updates on the ADVC project and how CILs are engaging in vital vaccination activities.   \n\n\n\nWe also want to hear from you! During the webinar\, we want to hear from the IL Network about the on-going challenges and needs your community is facing to help people with disabilities get vaccinated and stay safe and healthy in their communities.  \n\n\n\nRegistration Fee: This event is free-of-charge. \n\n\n\nTarget Audience: ADVC Grantees\, Centers for Independent Living\, Statewide Independent Living Councils\, and others involved in the Independent Living Network. \n\n\n\nIf you have any questions please contact Mary-Kate at mary-kate@ncil.org.   \n\n\n\nWhat is the ADVC? \n\n\n\nThe ADVC has distributed funding to organizations across the aging and disability networks to support an array of vaccination education and promotion activities\, including community vaccine clinics\, in-home vaccinations\, transportation to vaccination sites\, and outreach and education for older adults and people with disabilities. The ADVC is funded through a grant from the U.S. Administration for Community Living. \n\n\n\nThis webinar is supported by the Administration for Community Living (ACL\, U.S. Department of Health and Human Services (HHS)) through USAging as part of a financial assistance award to USAging totaling $74\,999\,835 with 100 percent funding by ACL/HHS. The contents are those of the author(s) and do not necessarily represent the official view of\, nor an endorsement\, by USAging\, ACL/HHS.
URL:https://ncil.org/event/il-network-and-advc-update-and-community-listening-session/
CATEGORIES:NCIL Training On-Demand
ATTACH;FMTTYPE=image/webp:https://ncil.org/wp-content/uploads/2024/06/NCIL-and-ADVC-Logos.webp
ORGANIZER;CN="NCIL":MAILTO:ncil@ncil.org
END:VEVENT
END:VCALENDAR