BEGIN:VCALENDAR
VERSION:2.0
PRODID:-//National Council on Independent Living - ECPv6.15.20//NONSGML v1.0//EN
CALSCALE:GREGORIAN
METHOD:PUBLISH
X-ORIGINAL-URL:https://ncil.org
X-WR-CALDESC:Events for National Council on Independent Living
REFRESH-INTERVAL;VALUE=DURATION:PT1H
X-Robots-Tag:noindex
X-PUBLISHED-TTL:PT1H
BEGIN:VTIMEZONE
TZID:America/Detroit
BEGIN:DAYLIGHT
TZOFFSETFROM:-0500
TZOFFSETTO:-0400
TZNAME:EDT
DTSTART:20230312T070000
END:DAYLIGHT
BEGIN:STANDARD
TZOFFSETFROM:-0400
TZOFFSETTO:-0500
TZNAME:EST
DTSTART:20231105T060000
END:STANDARD
BEGIN:DAYLIGHT
TZOFFSETFROM:-0500
TZOFFSETTO:-0400
TZNAME:EDT
DTSTART:20240310T070000
END:DAYLIGHT
BEGIN:STANDARD
TZOFFSETFROM:-0400
TZOFFSETTO:-0500
TZNAME:EST
DTSTART:20241103T060000
END:STANDARD
BEGIN:DAYLIGHT
TZOFFSETFROM:-0500
TZOFFSETTO:-0400
TZNAME:EDT
DTSTART:20250309T070000
END:DAYLIGHT
BEGIN:STANDARD
TZOFFSETFROM:-0400
TZOFFSETTO:-0500
TZNAME:EST
DTSTART:20251102T060000
END:STANDARD
END:VTIMEZONE
BEGIN:VEVENT
DTSTART;TZID=America/Detroit:20240213T140000
DTEND;TZID=America/Detroit:20240213T150000
DTSTAMP:20260423T015644
CREATED:20241118T190542Z
LAST-MODIFIED:20241118T210026Z
UID:10000123-1707832800-1707836400@ncil.org
SUMMARY:Home Usability Peer Network Meeting
DESCRIPTION:Archive: \n\n\n\n\nWebinar recording\n\n\n\nTranscript\n\n\n\nPresentation (PDF)\n\n\n\nPresentation (Word)\n\n\n\n\nThe Home Usability Peer Network meets on the second Wednesday of each month at 2:00 p.m. Eastern. ASL and CART will be provided. To request additional accommodations or to ask questions\, please contact Mary-Kate: Mary-Kate@ncil.org. \n\n\n\nRegister
URL:https://ncil.org/event/home-usability-peer-network-meeting-4/
CATEGORIES:Home Usability,NCIL Training On-Demand
ATTACH;FMTTYPE=image/png:https://ncil.org/wp-content/uploads/2023/12/HUP-LOGO.png
ORGANIZER;CN="NCIL":MAILTO:ncil@ncil.org
END:VEVENT
END:VCALENDAR