BEGIN:VCALENDAR
VERSION:2.0
PRODID:-//National Council on Independent Living - ECPv6.15.20//NONSGML v1.0//EN
CALSCALE:GREGORIAN
METHOD:PUBLISH
X-ORIGINAL-URL:https://ncil.org
X-WR-CALDESC:Events for National Council on Independent Living
REFRESH-INTERVAL;VALUE=DURATION:PT1H
X-Robots-Tag:noindex
X-PUBLISHED-TTL:PT1H
BEGIN:VTIMEZONE
TZID:America/Detroit
BEGIN:DAYLIGHT
TZOFFSETFROM:-0500
TZOFFSETTO:-0400
TZNAME:EDT
DTSTART:20230312T070000
END:DAYLIGHT
BEGIN:STANDARD
TZOFFSETFROM:-0400
TZOFFSETTO:-0500
TZNAME:EST
DTSTART:20231105T060000
END:STANDARD
BEGIN:DAYLIGHT
TZOFFSETFROM:-0500
TZOFFSETTO:-0400
TZNAME:EDT
DTSTART:20240310T070000
END:DAYLIGHT
BEGIN:STANDARD
TZOFFSETFROM:-0400
TZOFFSETTO:-0500
TZNAME:EST
DTSTART:20241103T060000
END:STANDARD
BEGIN:DAYLIGHT
TZOFFSETFROM:-0500
TZOFFSETTO:-0400
TZNAME:EDT
DTSTART:20250309T070000
END:DAYLIGHT
BEGIN:STANDARD
TZOFFSETFROM:-0400
TZOFFSETTO:-0500
TZNAME:EST
DTSTART:20251102T060000
END:STANDARD
END:VTIMEZONE
BEGIN:VEVENT
DTSTART;TZID=America/Detroit:20240215T140000
DTEND;TZID=America/Detroit:20240215T150000
DTSTAMP:20260423T015955
CREATED:20240724T012806Z
LAST-MODIFIED:20241021T153759Z
UID:10000039-1708005600-1708009200@ncil.org
SUMMARY:NCIL Listening Session: Housing
DESCRIPTION:Webinar archive\n\n\n\nTranscript (Word)\n\n\n\n\nFinding affordable and accessible housing is one of the biggest barriers to independence for persons with disabilities. \n\n\n\nThe National Council on Independent Living (NCIL) Housing Subcommittee wants to hear from you to help inform where to focus our federal advocacy for 2024! \n\n\n\n\nWhat barriers do you or your consumers face when it comes to finding housing?\n\n\n\nWhat programs are working? What programs are not working?\n\n\n\nIs Housing being addressed in your State Plan for Independent Living?\n\n\n\nWhat is your CIL’s relationship with your Public Housing Authority?\n\n\n\n\nWe want to hear it all! \n\n\n\nTarget Audience: Staff members of Centers for Independent Living (CILs) and Statewide Independent Living Councils (SILCs)\, consumers of CILs and persons with disabilities who have encountered barriers to affordable and accessible housing. \n\n\n\nIf you need any accommodations\, please reach out to NCIL’s Director of Advocacy and Public Policy\, Jessica Podesva\, at jessica@ncil.org. ASL and CART will be provided. \n\n\n\nPlease note\, the purpose of this event is to hear concerns and challenges related to housing needs in your communities to identify systemic advocacy issues. We will not be able to address or provide advice on individual housing cases at this event. \n\n\n\nVisit NCIL’s Advocacy & Action Center at: members.ncil.org/action
URL:https://ncil.org/event/ncil-listening-session-housing/
CATEGORIES:Members Only Content,NCIL Training On-Demand
ATTACH;FMTTYPE=image/png:https://ncil.org/wp-content/uploads/2024/10/Members-Only-Content.png
ORGANIZER;CN="NCIL":MAILTO:ncil@ncil.org
END:VEVENT
END:VCALENDAR