BEGIN:VCALENDAR
VERSION:2.0
PRODID:-//National Council on Independent Living - ECPv6.15.20//NONSGML v1.0//EN
CALSCALE:GREGORIAN
METHOD:PUBLISH
X-WR-CALNAME:National Council on Independent Living
X-ORIGINAL-URL:https://ncil.org
X-WR-CALDESC:Events for National Council on Independent Living
REFRESH-INTERVAL;VALUE=DURATION:PT1H
X-Robots-Tag:noindex
X-PUBLISHED-TTL:PT1H
BEGIN:VTIMEZONE
TZID:America/Detroit
BEGIN:DAYLIGHT
TZOFFSETFROM:-0500
TZOFFSETTO:-0400
TZNAME:EDT
DTSTART:20230312T070000
END:DAYLIGHT
BEGIN:STANDARD
TZOFFSETFROM:-0400
TZOFFSETTO:-0500
TZNAME:EST
DTSTART:20231105T060000
END:STANDARD
BEGIN:DAYLIGHT
TZOFFSETFROM:-0500
TZOFFSETTO:-0400
TZNAME:EDT
DTSTART:20240310T070000
END:DAYLIGHT
BEGIN:STANDARD
TZOFFSETFROM:-0400
TZOFFSETTO:-0500
TZNAME:EST
DTSTART:20241103T060000
END:STANDARD
BEGIN:DAYLIGHT
TZOFFSETFROM:-0500
TZOFFSETTO:-0400
TZNAME:EDT
DTSTART:20250309T070000
END:DAYLIGHT
BEGIN:STANDARD
TZOFFSETFROM:-0400
TZOFFSETTO:-0500
TZNAME:EST
DTSTART:20251102T060000
END:STANDARD
END:VTIMEZONE
BEGIN:VEVENT
DTSTART;TZID=America/Detroit:20240712T123000
DTEND;TZID=America/Detroit:20240712T133000
DTSTAMP:20260422T184638
CREATED:20241113T171722Z
LAST-MODIFIED:20241113T171724Z
UID:10000072-1720787400-1720791000@ncil.org
SUMMARY:NCIL Presents: Systems Change Coffee Chats for Community Organizers\, Systems Change Advocates\, and Non-Management CIL Staff
DESCRIPTION:* Coffee Chats were not archived \n\n\n\nNCIL will be hosting 2 one-hour monthly “Coffee Chats” for Independent Living advocates working on systems change. One coffee chat will be for Community Organizers\, Systems Change Advocates or any other non-management IL staff working on systems advocacy. The second one will be for management-level staff or Executive Directors either working on systems change issues or looking to get more involved in systems change and grassroots organizing. \n\n\n\nCoffee Chats for Community Organizers\, Systems Change Advocates\, and Non-Management CIL Staff \n\n\n\nApril 24; 4:00-5:00 p.m. Eastern \n\n\n\nMay 10; 2:00-3:00 p.m. Eastern \n\n\n\nJune 14; 1:00-2:00 p.m. Eastern \n\n\n\nJuly 12; 12:30-1:30 p.m. Eastern \n\n\n\nAugust 30; 1:00-2:00 p.m. Eastern \n\n\n\nSeptember 13; 2:00-3:00 p.m. Eastern
URL:https://ncil.org/event/ncil-presents-systems-change-coffee-chats-for-community-organizers-systems-change-advocates-and-non-management-cil-staff-3/
ATTACH;FMTTYPE=image/jpeg:https://ncil.org/wp-content/uploads/2024/07/ncil-logomark-event.jpg
ORGANIZER;CN="NCIL":MAILTO:ncil@ncil.org
END:VEVENT
END:VCALENDAR