BEGIN:VCALENDAR
VERSION:2.0
PRODID:-//National Council on Independent Living - ECPv6.15.20//NONSGML v1.0//EN
CALSCALE:GREGORIAN
METHOD:PUBLISH
X-ORIGINAL-URL:https://ncil.org
X-WR-CALDESC:Events for National Council on Independent Living
REFRESH-INTERVAL;VALUE=DURATION:PT1H
X-Robots-Tag:noindex
X-PUBLISHED-TTL:PT1H
BEGIN:VTIMEZONE
TZID:America/Detroit
BEGIN:DAYLIGHT
TZOFFSETFROM:-0500
TZOFFSETTO:-0400
TZNAME:EDT
DTSTART:20230312T070000
END:DAYLIGHT
BEGIN:STANDARD
TZOFFSETFROM:-0400
TZOFFSETTO:-0500
TZNAME:EST
DTSTART:20231105T060000
END:STANDARD
BEGIN:DAYLIGHT
TZOFFSETFROM:-0500
TZOFFSETTO:-0400
TZNAME:EDT
DTSTART:20240310T070000
END:DAYLIGHT
BEGIN:STANDARD
TZOFFSETFROM:-0400
TZOFFSETTO:-0500
TZNAME:EST
DTSTART:20241103T060000
END:STANDARD
BEGIN:DAYLIGHT
TZOFFSETFROM:-0500
TZOFFSETTO:-0400
TZNAME:EDT
DTSTART:20250309T070000
END:DAYLIGHT
BEGIN:STANDARD
TZOFFSETFROM:-0400
TZOFFSETTO:-0500
TZNAME:EST
DTSTART:20251102T060000
END:STANDARD
END:VTIMEZONE
BEGIN:VEVENT
DTSTART;TZID=America/Detroit:20240722T080000
DTEND;TZID=America/Detroit:20240725T171500
DTSTAMP:20260422T185837
CREATED:20240910T130947Z
LAST-MODIFIED:20241108T184027Z
UID:10000068-1721635200-1721927700@ncil.org
SUMMARY:2024 Annual Conference
DESCRIPTION:This July 22-25\, NCIL is traveling BACK TO THE FUTURE! As a movement\, we will revisit our foundational values in order to look to a future that embraces disability justice – loving all bodies and leaving no one behind. \n\n\n\nJoin us for the 2024 Annual Conference on Independent Living\, where we unite as a movement and advocate together for our priorities. \n\n\n\nWe will once again be a force in Washington DC when we march to the Capitol\, meet with representatives on the Hill\, and learn from each other. \n\n\n\nMake sure you don’t miss out – register today at: ncil.org/2024-annual-conference
URL:https://ncil.org/event/2024-annual-conference/
LOCATION:Grand Hyatt Washington\, 1000 H Street NW\, Washington DC\, DC\, 20001-4520\, United States
CATEGORIES:Conference
ATTACH;FMTTYPE=image/png:https://ncil.org/wp-content/uploads/2024/03/2024-Conference-Logo-1.png
ORGANIZER;CN="NCIL":MAILTO:ncil@ncil.org
END:VEVENT
END:VCALENDAR