BEGIN:VCALENDAR
VERSION:2.0
PRODID:-//National Council on Independent Living - ECPv6.15.20//NONSGML v1.0//EN
CALSCALE:GREGORIAN
METHOD:PUBLISH
X-ORIGINAL-URL:https://ncil.org
X-WR-CALDESC:Events for National Council on Independent Living
REFRESH-INTERVAL;VALUE=DURATION:PT1H
X-Robots-Tag:noindex
X-PUBLISHED-TTL:PT1H
BEGIN:VTIMEZONE
TZID:America/Detroit
BEGIN:DAYLIGHT
TZOFFSETFROM:-0500
TZOFFSETTO:-0400
TZNAME:EDT
DTSTART:20240310T070000
END:DAYLIGHT
BEGIN:STANDARD
TZOFFSETFROM:-0400
TZOFFSETTO:-0500
TZNAME:EST
DTSTART:20241103T060000
END:STANDARD
BEGIN:DAYLIGHT
TZOFFSETFROM:-0500
TZOFFSETTO:-0400
TZNAME:EDT
DTSTART:20250309T070000
END:DAYLIGHT
BEGIN:STANDARD
TZOFFSETFROM:-0400
TZOFFSETTO:-0500
TZNAME:EST
DTSTART:20251102T060000
END:STANDARD
BEGIN:DAYLIGHT
TZOFFSETFROM:-0500
TZOFFSETTO:-0400
TZNAME:EDT
DTSTART:20260308T070000
END:DAYLIGHT
BEGIN:STANDARD
TZOFFSETFROM:-0400
TZOFFSETTO:-0500
TZNAME:EST
DTSTART:20261101T060000
END:STANDARD
END:VTIMEZONE
BEGIN:VEVENT
DTSTART;TZID=America/Detroit:20250129T140000
DTEND;TZID=America/Detroit:20250129T160000
DTSTAMP:20260422T083959
CREATED:20250128T201336Z
LAST-MODIFIED:20250128T202634Z
UID:10000134-1738159200-1738166400@ncil.org
SUMMARY:IL Network Discussion on the Impact of the Freeze on Federal Programs
DESCRIPTION:Register online \n\n\n\nWith the recent news that the Trump Administration has issued a “Temporary Pause on Agency Grants\, Loans and other Financial Assistance Programs.” NCIL has decided to hold a call tomorrow\, January 29\, 2025 to discuss the Trump Administration’s freeze on the federal programs\, hear concerns and impact reports from CIL & SILC Executive Directors\, and speak about how this informs NCIL’s priorities. \n\n\n\nPlease note: space is limited. This call is meant for Executive Directors or other upper management-level staff of CILs and SILCs only. \n\n\n\nIn addition to holding this call\, NCIL is also reaching out to our contacts in Congressional offices and in the Trump Administration for guidance and information on what this means for Centers for Independent Living and Statewide Independent Living Councils. \n\n\n\nThis event is free of charge. ASL and CART will be provided. \n\n\n\nIf you need other accommodations or have questions\, email NCIL Director of Advocacy and Public Policy Jessica Podesva at Jessica@ncil.org.
URL:https://ncil.org/event/il-network-discussion-on-the-impact-of-the-freeze-on-federal-programs/
ATTACH;FMTTYPE=image/jpeg:https://ncil.org/wp-content/uploads/2024/07/ncil-logomark-event.jpg
END:VEVENT
END:VCALENDAR