BEGIN:VCALENDAR
VERSION:2.0
PRODID:-//National Council on Independent Living - ECPv6.15.20//NONSGML v1.0//EN
CALSCALE:GREGORIAN
METHOD:PUBLISH
X-ORIGINAL-URL:https://ncil.org
X-WR-CALDESC:Events for National Council on Independent Living
REFRESH-INTERVAL;VALUE=DURATION:PT1H
X-Robots-Tag:noindex
X-PUBLISHED-TTL:PT1H
BEGIN:VTIMEZONE
TZID:America/Detroit
BEGIN:DAYLIGHT
TZOFFSETFROM:-0500
TZOFFSETTO:-0400
TZNAME:EDT
DTSTART:20240310T070000
END:DAYLIGHT
BEGIN:STANDARD
TZOFFSETFROM:-0400
TZOFFSETTO:-0500
TZNAME:EST
DTSTART:20241103T060000
END:STANDARD
BEGIN:DAYLIGHT
TZOFFSETFROM:-0500
TZOFFSETTO:-0400
TZNAME:EDT
DTSTART:20250309T070000
END:DAYLIGHT
BEGIN:STANDARD
TZOFFSETFROM:-0400
TZOFFSETTO:-0500
TZNAME:EST
DTSTART:20251102T060000
END:STANDARD
BEGIN:DAYLIGHT
TZOFFSETFROM:-0500
TZOFFSETTO:-0400
TZNAME:EDT
DTSTART:20260308T070000
END:DAYLIGHT
BEGIN:STANDARD
TZOFFSETFROM:-0400
TZOFFSETTO:-0500
TZNAME:EST
DTSTART:20261101T060000
END:STANDARD
END:VTIMEZONE
BEGIN:VEVENT
DTSTART;TZID=America/Detroit:20250225T153000
DTEND;TZID=America/Detroit:20250225T170000
DTSTAMP:20260422T072523
CREATED:20250115T212402Z
LAST-MODIFIED:20250303T173432Z
UID:10000133-1740497400-1740502800@ncil.org
SUMMARY:Unlock New Opportunities for Collaboration: Introducing Medicare Physician Fee Schedule for CILs (Part 3)
DESCRIPTION:Archive: \n\n\n\n\nWebinar recording\n\n\n\nPresentation (PDF)\n\n\n\nPresentation (Word)\n\n\n\nTranscript (Word)\n\n\n\nKey Acronyms List (see below)\n\n\n\n\nJoin NCIL’s exclusive 3-Part Training Series to empower your Center for Independent Living with the knowledge and tools to maximize the benefits of the newly developed Medicare Physician Fee Schedule.   \n\n\n\nIn 2024\, the Centers for Medicare and Medicaid Services (CMS) adopted a new set of physician billing codes to address health-related social needs. These codes are designed specifically to foster partnerships between healthcare professionals and Community-Based Organizations\, like Centers for Independent Living (CILs)\, opening doors to enhanced services for individuals with disabilities.  \n\n\n\nWhat You’ll Gain \n\n\n\n\nA clear understanding of the new FY24 Medicare Physician Fee Schedule \n\n\n\nStrategies to integrate these codes into your Center’s operations to diversify revenue\n\n\n\nExpert-led guidance on implementation to ensure long-term success \n\n\n\n\nTraining Details  \n\n\n\nSession 1: Introduction to the FY24 Medicare Physician Billing Codes and Their Potential Impact  \n\n\n\nFebruary 5\, 2025; 2:00– 3:30 p.m. Eastern \n\n\n\nOverview of the FY 24 Medicare Physician Fee Schedule specifically with a focus on Community Health Integration (CHI)\, Principal Illness Navigation (PIN)\, and Principal Illness Navigation-Peer Support.  The session will provide participants with insight into the potential role of Centers for Independent Living in service delivery and provide a case study example.  \n\n\n\nSession 2: Deep Dive into the Codes and Service Delivery Models  \n\n\n\nFebruary 19\, 2025; 3:00-4:30 p.m. Eastern \n\n\n\nParticipants will do a deep dive into the mechanics of CHI\, PIN\, and PIN-PS service delivery.  \n\n\n\nSession 3: Strategies for Implementation  \n\n\n\nFebruary 25\, 2025; 3:30-5:00 p.m. Eastern \n\n\n\nParticipants will learn about how to develop a business model to sustain CHI\, PIN\, and PIN-PS service delivery and will receive helpful implementation tools and resources.  \n\n\n\nWho Should Attend?  \n\n\n\n\nStaff and leadership of Centers for Independent Living (CILs) \n\n\n\nPartnering healthcare professionals \n\n\n\nAdvocates for Independent Living \n\n\n\n\nSpeakers:  \n\n\n\n\nTim McNeill: Co-Chair\, Partnership to Align Social Care & Principal\, Freedman’s Health \n\n\n\nTheo Braddy: Executive Director\, National Council on Independent Living \n\n\n\n\nRegistration Fee: The live event is open to the public and free of charge.  Recording and Material: The recording and training materials after the event will be available exclusively to NCIL members through the Empowerment Training Academy. \n\n\n\nASL and CART will be provided. If you need any accommodations or have any questions\, please contact Mary-Kate Wells at Mary-Kate@ncil.org.  \n\n\n\nKey Acronyms: \n\n\n\n\nAAA: Area Agency on Aging\n\n\n\nACO: Accountable Care Organization\n\n\n\nADRC: Aging and Disability Resource Center\n\n\n\nAHC: Accountable Health Communities\n\n\n\nAWV: Annual Wellness Visits\n\n\n\nCBO: Community based organizations\n\n\n\nCCH: Community Care Hubs\n\n\n\nCHI: Community health integration\n\n\n\nCHW: Community Health Workers\n\n\n\nCIL: Center for Independent Living\n\n\n\nCMMI: Center for Medicare and Medicaid Innovation\n\n\n\nCMS: Centers for Medicare and Medicaid Services\n\n\n\nCOA: Care of Older Adults\n\n\n\nCoC: Continuum of Care Program (Housing and Urban Development Program)\n\n\n\nDuals: individuals with Medicare and Medicaid coverage\n\n\n\nEDU: Emergency Department Utilization\n\n\n\nEMR: Electronic Medical Record\n\n\n\nE/M: Evaluation and Management\n\n\n\nFUH: Follow-up after hospitalization for mental illness\n\n\n\nHCBS: Home and Community Based Services\n\n\n\nHCPCS: Healthcare Common Procedure Coding System\n\n\n\nHEDIS: Healthcare Effectiveness Data and Information Set\n\n\n\nHRSN- Health-Related Social Needs\n\n\n\nFFS: Fee-for-Services\n\n\n\nPCR: Plan All-Cause Readmissions\n\n\n\nPHQ-2 Patient Health Questionnaire-2\n\n\n\nPIN: Principle illness navigation\n\n\n\nPIN-PS: principle illness navigation- peer support\n\n\n\nQMB: Qualified Medicare Beneficiary\n\n\n\nQI: Qualified Individual\n\n\n\nQDWI: Qualified Disabled and Working Individuals\n\n\n\nSAMSHA: Substance Abuse and Mental Health Services Administration\n\n\n\nSDOH social determinant of health\n\n\n\nSHIP: State Health Insurance Assistance Program\n\n\n\nSLMB: Specific Low Income Medicare Beneficiary\n\n\n\nSNF: Skilled Nursing Facility\n\n\n\nTCM: Transitional Care Management Visits\n\n\n\nTOC: Transition of Care
URL:https://ncil.org/event/unlock-medicare3/
CATEGORIES:Members Only Content,NCIL Training On-Demand
ATTACH;FMTTYPE=image/png:https://ncil.org/wp-content/uploads/2024/10/Members-Only-Content.png
END:VEVENT
END:VCALENDAR