BEGIN:VCALENDAR
VERSION:2.0
PRODID:-//National Council on Independent Living - ECPv6.15.20//NONSGML v1.0//EN
CALSCALE:GREGORIAN
METHOD:PUBLISH
X-WR-CALNAME:National Council on Independent Living
X-ORIGINAL-URL:https://ncil.org
X-WR-CALDESC:Events for National Council on Independent Living
REFRESH-INTERVAL;VALUE=DURATION:PT1H
X-Robots-Tag:noindex
X-PUBLISHED-TTL:PT1H
BEGIN:VTIMEZONE
TZID:America/Detroit
BEGIN:DAYLIGHT
TZOFFSETFROM:-0500
TZOFFSETTO:-0400
TZNAME:EDT
DTSTART:20240310T070000
END:DAYLIGHT
BEGIN:STANDARD
TZOFFSETFROM:-0400
TZOFFSETTO:-0500
TZNAME:EST
DTSTART:20241103T060000
END:STANDARD
BEGIN:DAYLIGHT
TZOFFSETFROM:-0500
TZOFFSETTO:-0400
TZNAME:EDT
DTSTART:20250309T070000
END:DAYLIGHT
BEGIN:STANDARD
TZOFFSETFROM:-0400
TZOFFSETTO:-0500
TZNAME:EST
DTSTART:20251102T060000
END:STANDARD
BEGIN:DAYLIGHT
TZOFFSETFROM:-0500
TZOFFSETTO:-0400
TZNAME:EDT
DTSTART:20260308T070000
END:DAYLIGHT
BEGIN:STANDARD
TZOFFSETFROM:-0400
TZOFFSETTO:-0500
TZNAME:EST
DTSTART:20261101T060000
END:STANDARD
END:VTIMEZONE
BEGIN:VEVENT
DTSTART;TZID=America/Detroit:20250721T090000
DTEND;TZID=America/Detroit:20250724T170000
DTSTAMP:20260422T013255
CREATED:20241010T201408Z
LAST-MODIFIED:20250825T161028Z
UID:10000098-1753088400-1753376400@ncil.org
SUMMARY:Annual Conference on Independent Living 2025
DESCRIPTION:Registration for NCIL’s 2025 Annual Conference on Independent Living is now open! \n\n\n\nThe theme for this year’s Annual Conference is LEVEL UP: Building Tomorrow Together. The conference will take place July 21-24\, 2025 at the Grand Hyatt Washington\, DC. \n\n\n\nVisit our conference web page for more details!
URL:https://ncil.org/event/annual-conference-on-independent-living-2025/
LOCATION:Grand Hyatt Washington\, 1000 H Street NW\, Washington DC\, DC\, 20001-4520\, United States
CATEGORIES:Conference
ATTACH;FMTTYPE=image/png:https://ncil.org/wp-content/uploads/2024/10/Cropped-2025-Annual-Conference-Logo-01.png
ORGANIZER;CN="NCIL":MAILTO:ncil@ncil.org
END:VEVENT
BEGIN:VEVENT
DTSTART;TZID=America/Detroit:20250721T150000
DTEND;TZID=America/Detroit:20250721T170000
DTSTAMP:20260422T013255
CREATED:20250618T164317Z
LAST-MODIFIED:20250825T161109Z
UID:10000157-1753110000-1753117200@ncil.org
SUMMARY:ADA35 National March and Rally in Washington\, DC
DESCRIPTION:The National Council on Independent Living (NCIL) and our partners at the American Association of People with Disabilities (AAPD) invite YOU to join us for the 2025 National March & Rally in the heart of Washington\, DC! \n\n\n\nThe theme for the 2025 March and Rally is Our Lives\, Our Homes\, Our Communities. Together\, we will march through the streets of Washington\, DC to send a clear message: we are united and determined to preserve our freedom to live independently in our communities! \n\n\n\n📍 Assembly Time & Location: \n\n\n\nMarch 3:00 – 4:00 p.m. / Grand Hyatt Washington \n\n\n\nGather with us between 2:15 p.m. – 2:45 p.m. at G and 11th Streets\, NW. The March will step off promptly at 3:00 p.m.\, heading from the Grand Hyatt to Capitol Hill. \n\n\n\nRally: 4:00 – 5:00 p.m. / U.S. Capitol \n\n\n\nMarchers will converge at the U.S. Capitol for an empowering rally featuring a number of speakers\, including leaders in the Independent Living Movement and elected officials working on the issues we care about most. \n\n\n\n🎨 Express Yourself! \n\n\n\nNCIL Annual Conference attendees can pick up complimentary Do-It-Yourself Sign Kits on the morning of Monday\, July 21 on the conference floor. Not attending the conference? No problem — bring your own signs and showcase your message your way! \n\n\n\n✨ All Are Welcome. \n\n\n\nThis is more than a march — it’s a movement. Whether you’re a member\, an ally\, or simply someone who supports the disability community\, your presence matters. Join as we rally together to protect and advance the rights of people with disabilities across the nation. \n\n\n\nWe’ll be making memories and making history. We hope you’ll join us. \n\n\n\n#NCIL2025
URL:https://ncil.org/event/ada35-march-rally/
CATEGORIES:Conference
ATTACH;FMTTYPE=image/png:https://ncil.org/wp-content/uploads/2025/06/March-and-Rally6-Logo-2025-SQUARE-scaled.png
END:VEVENT
END:VCALENDAR