BEGIN:VCALENDAR
VERSION:2.0
PRODID:-//National Council on Independent Living - ECPv6.15.20//NONSGML v1.0//EN
CALSCALE:GREGORIAN
METHOD:PUBLISH
X-WR-CALNAME:National Council on Independent Living
X-ORIGINAL-URL:https://ncil.org
X-WR-CALDESC:Events for National Council on Independent Living
REFRESH-INTERVAL;VALUE=DURATION:PT1H
X-Robots-Tag:noindex
X-PUBLISHED-TTL:PT1H
BEGIN:VTIMEZONE
TZID:America/Detroit
BEGIN:DAYLIGHT
TZOFFSETFROM:-0500
TZOFFSETTO:-0400
TZNAME:EDT
DTSTART:20240310T070000
END:DAYLIGHT
BEGIN:STANDARD
TZOFFSETFROM:-0400
TZOFFSETTO:-0500
TZNAME:EST
DTSTART:20241103T060000
END:STANDARD
BEGIN:DAYLIGHT
TZOFFSETFROM:-0500
TZOFFSETTO:-0400
TZNAME:EDT
DTSTART:20250309T070000
END:DAYLIGHT
BEGIN:STANDARD
TZOFFSETFROM:-0400
TZOFFSETTO:-0500
TZNAME:EST
DTSTART:20251102T060000
END:STANDARD
BEGIN:DAYLIGHT
TZOFFSETFROM:-0500
TZOFFSETTO:-0400
TZNAME:EDT
DTSTART:20260308T070000
END:DAYLIGHT
BEGIN:STANDARD
TZOFFSETFROM:-0400
TZOFFSETTO:-0500
TZNAME:EST
DTSTART:20261101T060000
END:STANDARD
END:VTIMEZONE
BEGIN:VEVENT
DTSTART;TZID=America/Detroit:20250804T150000
DTEND;TZID=America/Detroit:20250804T160000
DTSTAMP:20260422T001021
CREATED:20250527T195825Z
LAST-MODIFIED:20250528T133136Z
UID:10000150-1754319600-1754323200@ncil.org
SUMMARY:Coffee Chats: Executive Directors and Management-Level Staff
DESCRIPTION:First Monday of each month at 3:00 p.m. Eastern \n\n\n\nRegister \n\n\n\n\nJune 2\, 2025; 3:00 p.m. Eastern\n\n\n\nJuly 7\, 2025; 3:00 p.m. Eastern\n\n\n\nAugust 4\, 2025; 3:00 p.m. Eastern\n\n\n\n\nASL and CART will be provided. \n\n\n\nFor additional accommodation requests or questions\, please contact Mary-Kate Wells at Mary-Kate@ncil.org or Jessica Podesva at Jessica@ncil.org.
URL:https://ncil.org/event/coffee-chats-management-3/
ATTACH;FMTTYPE=image/png:https://ncil.org/wp-content/uploads/2025/05/2025-Coffee-Chats.png
END:VEVENT
END:VCALENDAR