BEGIN:VCALENDAR
VERSION:2.0
PRODID:-//National Council on Independent Living - ECPv6.15.20//NONSGML v1.0//EN
CALSCALE:GREGORIAN
METHOD:PUBLISH
X-ORIGINAL-URL:https://ncil.org
X-WR-CALDESC:Events for National Council on Independent Living
REFRESH-INTERVAL;VALUE=DURATION:PT1H
X-Robots-Tag:noindex
X-PUBLISHED-TTL:PT1H
BEGIN:VTIMEZONE
TZID:America/Detroit
BEGIN:DAYLIGHT
TZOFFSETFROM:-0500
TZOFFSETTO:-0400
TZNAME:EDT
DTSTART:20250309T070000
END:DAYLIGHT
BEGIN:STANDARD
TZOFFSETFROM:-0400
TZOFFSETTO:-0500
TZNAME:EST
DTSTART:20251102T060000
END:STANDARD
BEGIN:DAYLIGHT
TZOFFSETFROM:-0500
TZOFFSETTO:-0400
TZNAME:EDT
DTSTART:20260308T070000
END:DAYLIGHT
BEGIN:STANDARD
TZOFFSETFROM:-0400
TZOFFSETTO:-0500
TZNAME:EST
DTSTART:20261101T060000
END:STANDARD
BEGIN:DAYLIGHT
TZOFFSETFROM:-0500
TZOFFSETTO:-0400
TZNAME:EDT
DTSTART:20270314T070000
END:DAYLIGHT
BEGIN:STANDARD
TZOFFSETFROM:-0400
TZOFFSETTO:-0500
TZNAME:EST
DTSTART:20271107T060000
END:STANDARD
END:VTIMEZONE
BEGIN:VEVENT
DTSTART;TZID=America/Detroit:20260114T110000
DTEND;TZID=America/Detroit:20260114T123000
DTSTAMP:20260421T171426
CREATED:20260109T181832Z
LAST-MODIFIED:20260109T181833Z
UID:10000170-1768388400-1768393800@ncil.org
SUMMARY:NDI Event: Navigating Accessible Vehicle Purchase
DESCRIPTION:Join National Disability Institute for answers to your concerns and questions around the process of purchasing an accessible vehicle.  \n\n\n\nHaving a reliable\, accessible vehicle dramatically improves quality of life helping people to maintain employment\, get to medical appointments and actively participate in their community.  \n\n\n\nPresenters include NCIL Executive Director Theo Braddy \n\n\n\nRead more / register
URL:https://ncil.org/event/ndi-accessible-vehicle/
ATTACH;FMTTYPE=image/webp:https://ncil.org/wp-content/uploads/2026/01/National-Disability-Institute-NDI-Logo.webp
END:VEVENT
END:VCALENDAR