BEGIN:VCALENDAR
VERSION:2.0
PRODID:-//National Council on Independent Living - ECPv6.15.20//NONSGML v1.0//EN
CALSCALE:GREGORIAN
METHOD:PUBLISH
X-WR-CALNAME:National Council on Independent Living
X-ORIGINAL-URL:https://ncil.org
X-WR-CALDESC:Events for National Council on Independent Living
REFRESH-INTERVAL;VALUE=DURATION:PT1H
X-Robots-Tag:noindex
X-PUBLISHED-TTL:PT1H
BEGIN:VTIMEZONE
TZID:America/Detroit
BEGIN:DAYLIGHT
TZOFFSETFROM:-0500
TZOFFSETTO:-0400
TZNAME:EDT
DTSTART:20250309T070000
END:DAYLIGHT
BEGIN:STANDARD
TZOFFSETFROM:-0400
TZOFFSETTO:-0500
TZNAME:EST
DTSTART:20251102T060000
END:STANDARD
BEGIN:DAYLIGHT
TZOFFSETFROM:-0500
TZOFFSETTO:-0400
TZNAME:EDT
DTSTART:20260308T070000
END:DAYLIGHT
BEGIN:STANDARD
TZOFFSETFROM:-0400
TZOFFSETTO:-0500
TZNAME:EST
DTSTART:20261101T060000
END:STANDARD
BEGIN:DAYLIGHT
TZOFFSETFROM:-0500
TZOFFSETTO:-0400
TZNAME:EDT
DTSTART:20270314T070000
END:DAYLIGHT
BEGIN:STANDARD
TZOFFSETFROM:-0400
TZOFFSETTO:-0500
TZNAME:EST
DTSTART:20271107T060000
END:STANDARD
END:VTIMEZONE
BEGIN:VEVENT
DTSTART;TZID=America/Detroit:20260217T140000
DTEND;TZID=America/Detroit:20260217T153000
DTSTAMP:20260421T155107
CREATED:20260311T191815Z
LAST-MODIFIED:20260311T191817Z
UID:10000195-1771336800-1771342200@ncil.org
SUMMARY:Preserving ADA Parking Community Conversation: The Policy Challenge Spreading Across States
DESCRIPTION:Archive:  \n\n\n\n\nWebinar recording\n\n\n\nPresentation (PDF)\n\n\n\nTranscript (Word)\n\n\n\n\nThe National Council on Independent Living and United Spinal Association are coming together for a community conversation and educational meeting on what people with disabilities\, allies\, and community members can do to protect disability rights and access to accessible parking. \n\n\n\nSeveral states across the country are considering or have passed legislation that would allow anyone who is pregnant to use ADA designated parking spaces for a full year regardless of whether their pregnancy has impacted their mobility. \n\n\n\nThis meeting will explain what’s happening\, why it matters\, and how we can work collectively to educate our local communities and to ensure that people with disabilities continue to have access to accessible parking spaces. \n\n\n\nASL and Cart will be provided. Please reach out to NCIL Director of Advocacy and Public Policy at jessica@ncil.org if you have any questions or accommodation requests.
URL:https://ncil.org/event/parking-conversation/
CATEGORIES:Members Only Content,NCIL Training On-Demand
ATTACH;FMTTYPE=image/png:https://ncil.org/wp-content/uploads/2024/10/Members-Only-Content.png
END:VEVENT
END:VCALENDAR