BEGIN:VCALENDAR
VERSION:2.0
PRODID:-//National Council on Independent Living - ECPv6.15.20//NONSGML v1.0//EN
CALSCALE:GREGORIAN
METHOD:PUBLISH
X-WR-CALNAME:National Council on Independent Living
X-ORIGINAL-URL:https://ncil.org
X-WR-CALDESC:Events for National Council on Independent Living
REFRESH-INTERVAL;VALUE=DURATION:PT1H
X-Robots-Tag:noindex
X-PUBLISHED-TTL:PT1H
BEGIN:VTIMEZONE
TZID:America/Detroit
BEGIN:DAYLIGHT
TZOFFSETFROM:-0500
TZOFFSETTO:-0400
TZNAME:EDT
DTSTART:20230312T070000
END:DAYLIGHT
BEGIN:STANDARD
TZOFFSETFROM:-0400
TZOFFSETTO:-0500
TZNAME:EST
DTSTART:20231105T060000
END:STANDARD
BEGIN:DAYLIGHT
TZOFFSETFROM:-0500
TZOFFSETTO:-0400
TZNAME:EDT
DTSTART:20240310T070000
END:DAYLIGHT
BEGIN:STANDARD
TZOFFSETFROM:-0400
TZOFFSETTO:-0500
TZNAME:EST
DTSTART:20241103T060000
END:STANDARD
BEGIN:DAYLIGHT
TZOFFSETFROM:-0500
TZOFFSETTO:-0400
TZNAME:EDT
DTSTART:20250309T070000
END:DAYLIGHT
BEGIN:STANDARD
TZOFFSETFROM:-0400
TZOFFSETTO:-0500
TZNAME:EST
DTSTART:20251102T060000
END:STANDARD
END:VTIMEZONE
BEGIN:VEVENT
DTSTART;TZID=America/Detroit:20240402T130000
DTEND;TZID=America/Detroit:20240402T140000
DTSTAMP:20260422T175436
CREATED:20240724T011327Z
LAST-MODIFIED:20241118T214326Z
UID:10000036-1712062800-1712066400@ncil.org
SUMMARY:Employment Resource Hub Peer Call
DESCRIPTION:Archive: \n\n\n\n\nWebinar recording\n\n\n\nTranscript\n\n\n\nPresentation in PDF\n\n\n\nPresentation in Word\n\n\n\n\nRegister \n\n\n\nRegister for the monthly Peer Network Calls \n\n\n\nAnnouncements \n\n\n\nNCIL’s Employment Resource Hub and Peer Network will be a one-stop resource center to support people living with paralysis and other disabilities to access community and employment resources.  \n\n\n\n\nNCIL to Launch Employment Resource Hub and Peer Network with Christopher & Dana Reeve Foundation Quality of Life Grant\n\n\n\n\nMonthly Meetings \n\n\n\nEach peer network call will cover a resource that people with disabilities can use to support their employment journey. The Employment Resource Hub and Peer Network is designed for individuals with disabilities\, including individuals living with paralysis and the Independent Living community. We also invite peer advocates\, IL Skills Trainers or other IL staff seeking to learn how to use different employment tools in order to provide peer support to consumers. 
URL:https://ncil.org/event/employment-resource-hub-peer-calls/
CATEGORIES:Employment Resource Hub,NCIL Training On-Demand
ATTACH;FMTTYPE=image/png:https://ncil.org/wp-content/uploads/2024/04/Employment-Resource-Hub-Logo.png
ORGANIZER;CN="NCIL":MAILTO:ncil@ncil.org
END:VEVENT
BEGIN:VEVENT
DTSTART;TZID=America/Detroit:20240403T140000
DTEND;TZID=America/Detroit:20240403T150000
DTSTAMP:20260422T175436
CREATED:20240724T004251Z
LAST-MODIFIED:20250213T182216Z
UID:10000035-1712152800-1712156400@ncil.org
SUMMARY:Beyond Payroll: Optimizing Your Organization’s Financial Processes
DESCRIPTION:In Partnership with ADP\, NCIL Presents: Beyond Payroll – Optimizing Your Organization’s Financial Processes \n\n\n\nArchive: \n\n\n\n\nWebinar recording\n\n\n\nTranscript (Word)\n\n\n\n\nWhether your Center for Independent Living (CIL) or Statewide Independent Living Council (SILC) has 5 or 50+ staff\, effective organizational practices are essential to the day-to-day operation of CILs and SILCs. \n\n\n\nJoin a conversation to explore tips and techniques that can optimize your organization’s financial and human resource (HR) processes. \n\n\n\nWhat you will learn: \n\n\n\nEffective organizational practices to support daily non-profit business operations. \n\n\n\nFinancial and human resource tools and resources beyond payroll management. \n\n\n\nStrategies to streamline human resources procedures and practices. \n\n\n\nTarget Audience: \n\n\n\nStaff and Management of CILs\, SILCs\, and other disability-focused non-profits. \n\n\n\nPresenters: \n\n\n\n\nJessica Pinero\, CPA Centric – Elite Senior District Manager at ADP\n\n\n\nJenny Sichel\, Operations Director – National Council on Independent Living
URL:https://ncil.org/event/beyond-payroll-optimizing-your-organizations-financial-processes/
CATEGORIES:Members Only Content,NCIL Training On-Demand
ATTACH;FMTTYPE=image/png:https://ncil.org/wp-content/uploads/2024/10/Members-Only-Content.png
ORGANIZER;CN="NCIL":MAILTO:ncil@ncil.org
END:VEVENT
BEGIN:VEVENT
DTSTART;TZID=America/Detroit:20240409T140000
DTEND;TZID=America/Detroit:20240409T150000
DTSTAMP:20260422T175436
CREATED:20241118T191644Z
LAST-MODIFIED:20241118T205928Z
UID:10000125-1712671200-1712674800@ncil.org
SUMMARY:Home Usability Peer Network Meeting
DESCRIPTION:Archive: \n\n\n\n\nWebinar recording\n\n\n\nTranscript\n\n\n\n\nThe Home Usability Peer Network meets on the second Wednesday of each month at 2:00 p.m. Eastern. ASL and CART will be provided. To request additional accommodations or to ask questions\, please contact Mary-Kate: Mary-Kate@ncil.org. \n\n\n\nRegister
URL:https://ncil.org/event/home-usability-peer-network-meeting-6/
CATEGORIES:Home Usability,NCIL Training On-Demand
ATTACH;FMTTYPE=image/png:https://ncil.org/wp-content/uploads/2023/12/HUP-LOGO.png
ORGANIZER;CN="NCIL":MAILTO:ncil@ncil.org
END:VEVENT
END:VCALENDAR