BEGIN:VCALENDAR
VERSION:2.0
PRODID:-//National Council on Independent Living - ECPv6.15.20//NONSGML v1.0//EN
CALSCALE:GREGORIAN
METHOD:PUBLISH
X-WR-CALNAME:National Council on Independent Living
X-ORIGINAL-URL:https://ncil.org
X-WR-CALDESC:Events for National Council on Independent Living
REFRESH-INTERVAL;VALUE=DURATION:PT1H
X-Robots-Tag:noindex
X-PUBLISHED-TTL:PT1H
BEGIN:VTIMEZONE
TZID:America/Detroit
BEGIN:DAYLIGHT
TZOFFSETFROM:-0500
TZOFFSETTO:-0400
TZNAME:EDT
DTSTART:20240310T070000
END:DAYLIGHT
BEGIN:STANDARD
TZOFFSETFROM:-0400
TZOFFSETTO:-0500
TZNAME:EST
DTSTART:20241103T060000
END:STANDARD
BEGIN:DAYLIGHT
TZOFFSETFROM:-0500
TZOFFSETTO:-0400
TZNAME:EDT
DTSTART:20250309T070000
END:DAYLIGHT
BEGIN:STANDARD
TZOFFSETFROM:-0400
TZOFFSETTO:-0500
TZNAME:EST
DTSTART:20251102T060000
END:STANDARD
BEGIN:DAYLIGHT
TZOFFSETFROM:-0500
TZOFFSETTO:-0400
TZNAME:EDT
DTSTART:20260308T070000
END:DAYLIGHT
BEGIN:STANDARD
TZOFFSETFROM:-0400
TZOFFSETTO:-0500
TZNAME:EST
DTSTART:20261101T060000
END:STANDARD
END:VTIMEZONE
BEGIN:VEVENT
DTSTART;TZID=America/Detroit:20250108T140000
DTEND;TZID=America/Detroit:20250108T150000
DTSTAMP:20260422T050121
CREATED:20241118T194025Z
LAST-MODIFIED:20250108T152104Z
UID:10000107-1736344800-1736348400@ncil.org
SUMMARY:Home Usability Peer Network Meeting
DESCRIPTION:CANCELLED
URL:https://ncil.org/event/home-usability-peer-network-meeting-8/
CATEGORIES:Home Usability,NCIL Training On-Demand
ATTACH;FMTTYPE=image/png:https://ncil.org/wp-content/uploads/2024/11/HUP-LOGO-website.png
ORGANIZER;CN="NCIL":MAILTO:ncil@ncil.org
END:VEVENT
BEGIN:VEVENT
DTSTART;TZID=America/Detroit:20250123T150000
DTEND;TZID=America/Detroit:20250123T160000
DTSTAMP:20260422T050121
CREATED:20250213T164942Z
LAST-MODIFIED:20250213T180637Z
UID:10000135-1737644400-1737648000@ncil.org
SUMMARY:LGBTQIA+ Alphabet
DESCRIPTION:Archive: \n\n\n\n\nWebinar recording\n\n\n\nPresentation (PDF)\n\n\n\nPresentation (Word)\n\n\n\n\nThis training provides a comprehensive introduction to the diverse identities represented within the LGBTQIA+ community. Participants will gain an understanding of the meaning behind each letter in the LGBTQIA+ acronym and its intersection with the disability community. \n\n\n\nLearning Objectives: \n\n\n\n\nDefine and understand the terms within the LGBTQIA+ acronym.\n\n\n\nExplore the distinctions between gender identity\, gender expression\, and sexual orientation.\n\n\n\nRecognize the impact of inclusive language.\n\n\n\n\nThis training is designed for individuals and organizations seeking to enhance their understanding of LGBTQIA+ identities and build more inclusive communities. \n\n\n\nPresenter: Vicki Landers \n\n\n\nVicki Landers (She/They) is a proud\, queer femme that lives with both visible and unseen disabilities. She is grounded by her partner Ray\, her familiars Angel and Damien\, and her son Kyle. She enjoys hunting for vintage Halloween items\, early 1900’s colored glass\, anything Tim Burton\, and eating tacos. Vicki’s background is in retail management\, training\, and customer service. She is an assemblage artist and art curator. \n\n\n\nVicki is the Founder & Director of Disability Pride Pennsylvania. She found her space in the disability community by providing FUN. She says\, “We as a community are inherently fighting for our rights to live independently and to be heard by the medical professionals\, as well as our own bodies. We need a space to enjoy\, have fun\, and celebrate the victories.” Our programming includes disability pride events to bring communities together in a fun social way. We believe that bringing people together socially creates stronger communities\, and stronger communities have better conversations. These conversations are key to the advocacy needed in our fight for equality. The organization has produced over 120 events\, all with access and included history\, art\, music\, comedy\, tough conversations\, fun socials\, policy hearings\, and more. \n\n\n\nResources: \n\n\n\nWant to know more? Here is some recommended reading: \n\n\n\n\nHRC Glossary of Terms\n\n\n\nTransgender Resources\n\n\n\nIntersex Informational Brochures\n\n\n\nThe Trevor Project’s Guide on Asexuality
URL:https://ncil.org/event/lgbtqia-alphabet/
CATEGORIES:Members Only Content,NCIL Training On-Demand
ATTACH;FMTTYPE=image/png:https://ncil.org/wp-content/uploads/2024/10/Members-Only-Content.png
END:VEVENT
END:VCALENDAR