BEGIN:VCALENDAR
VERSION:2.0
PRODID:-//National Council on Independent Living - ECPv6.15.20//NONSGML v1.0//EN
CALSCALE:GREGORIAN
METHOD:PUBLISH
X-WR-CALNAME:National Council on Independent Living
X-ORIGINAL-URL:https://ncil.org
X-WR-CALDESC:Events for National Council on Independent Living
REFRESH-INTERVAL;VALUE=DURATION:PT1H
X-Robots-Tag:noindex
X-PUBLISHED-TTL:PT1H
BEGIN:VTIMEZONE
TZID:America/Detroit
BEGIN:DAYLIGHT
TZOFFSETFROM:-0500
TZOFFSETTO:-0400
TZNAME:EDT
DTSTART:20240310T070000
END:DAYLIGHT
BEGIN:STANDARD
TZOFFSETFROM:-0400
TZOFFSETTO:-0500
TZNAME:EST
DTSTART:20241103T060000
END:STANDARD
BEGIN:DAYLIGHT
TZOFFSETFROM:-0500
TZOFFSETTO:-0400
TZNAME:EDT
DTSTART:20250309T070000
END:DAYLIGHT
BEGIN:STANDARD
TZOFFSETFROM:-0400
TZOFFSETTO:-0500
TZNAME:EST
DTSTART:20251102T060000
END:STANDARD
BEGIN:DAYLIGHT
TZOFFSETFROM:-0500
TZOFFSETTO:-0400
TZNAME:EDT
DTSTART:20260308T070000
END:DAYLIGHT
BEGIN:STANDARD
TZOFFSETFROM:-0400
TZOFFSETTO:-0500
TZNAME:EST
DTSTART:20261101T060000
END:STANDARD
END:VTIMEZONE
BEGIN:VEVENT
DTSTART;TZID=America/Detroit:20250812T150000
DTEND;TZID=America/Detroit:20250812T160000
DTSTAMP:20260421T202507
CREATED:20250714T153458Z
LAST-MODIFIED:20250821T143526Z
UID:10000158-1755010800-1755014400@ncil.org
SUMMARY:Understanding the PEO Model: A Strategic Partner for Organization Growth
DESCRIPTION:Archive: \n\n\n\n\nWebinar recording\n\n\n\nWebinar transcript (Word)\n\n\n\nPresentation (PDF)\n\n\n\nPresentation (Word)\n\n\n\n\nJoin Questco for an informative webinar designed specifically for nonprofit leaders and small organizations. \n\n\n\nThis session will break down: \n\n\n\n\nWhat a Professional Employer Organization (PEO) is and how it works\n\n\n\nHow a PEO differs from traditional HR and operations models commonly used in the nonprofit space\n\n\n\nHow partnering with a PEO can help reduce administrative burden\, improve compliance\, and enhance employee benefits — all while freeing up time and resources to focus on your mission.\n\n\n\n\nThis live webinar is free and open to the public. The recording will be made available to NCIL members through the Empowerment Training Academy. \n\n\n\nPresenters \n\n\n\nTravis SwansonQuestcoVice President\, Growth \n\n\n\nTodd StarkeyQuestcoBusiness Development Manager \n\n\n\nHosted By: National Council on Independent Living Empowerment Training Academy
URL:https://ncil.org/event/peo/
CATEGORIES:Members Only Content,NCIL Training On-Demand
ATTACH;FMTTYPE=image/png:https://ncil.org/wp-content/uploads/2025/07/Questco-Logo-2-scaled.png
END:VEVENT
END:VCALENDAR