BEGIN:VCALENDAR
VERSION:2.0
PRODID:-//National Council on Independent Living - ECPv6.15.20//NONSGML v1.0//EN
CALSCALE:GREGORIAN
METHOD:PUBLISH
X-ORIGINAL-URL:https://ncil.org
X-WR-CALDESC:Events for National Council on Independent Living
REFRESH-INTERVAL;VALUE=DURATION:PT1H
X-Robots-Tag:noindex
X-PUBLISHED-TTL:PT1H
BEGIN:VTIMEZONE
TZID:America/Detroit
BEGIN:DAYLIGHT
TZOFFSETFROM:-0500
TZOFFSETTO:-0400
TZNAME:EDT
DTSTART:20240310T070000
END:DAYLIGHT
BEGIN:STANDARD
TZOFFSETFROM:-0400
TZOFFSETTO:-0500
TZNAME:EST
DTSTART:20241103T060000
END:STANDARD
BEGIN:DAYLIGHT
TZOFFSETFROM:-0500
TZOFFSETTO:-0400
TZNAME:EDT
DTSTART:20250309T070000
END:DAYLIGHT
BEGIN:STANDARD
TZOFFSETFROM:-0400
TZOFFSETTO:-0500
TZNAME:EST
DTSTART:20251102T060000
END:STANDARD
BEGIN:DAYLIGHT
TZOFFSETFROM:-0500
TZOFFSETTO:-0400
TZNAME:EDT
DTSTART:20260308T070000
END:DAYLIGHT
BEGIN:STANDARD
TZOFFSETFROM:-0400
TZOFFSETTO:-0500
TZNAME:EST
DTSTART:20261101T060000
END:STANDARD
END:VTIMEZONE
BEGIN:VEVENT
DTSTART;TZID=America/Detroit:20251030T150000
DTEND;TZID=America/Detroit:20251030T163000
DTSTAMP:20260421T160242
CREATED:20251025T000230Z
LAST-MODIFIED:20251025T000707Z
UID:10000166-1761836400-1761841800@ncil.org
SUMMARY:Community Conversation: Changing Landscape – Food Insecurity and the Independent Living Network
DESCRIPTION:Register online \n\n\n\nConsidering the recent federal policy changes from recently-passed legislation (H.R. 1) and the government shutdown\, we know many of you have questions about how this may affect your programs and the communities you serve. \n\n\n\nWe want to hear from you! We invite you to join a community conversation where your voice and experiences will guide our advocacy and response efforts. \n\n\n\nNCIL will be hosting a community conversation to: \n\n\n\n\nAnswer any questions we can related to changes in federal policy\n\n\n\nDiscuss potential impacts on CIL programming\n\n\n\nDiscuss partnerships and actions CILs and SILCs can take to support the communities we serve\n\n\n\nUnderstand how your communities are being affected\n\n\n\nHear why food benefits are important to you!\n\n\n\n\nThis is an open space for dialogue\, and we encourage anyone to attend. Your insights are essential as we work to advocate for the needs of our community during this time. \n\n\n\nIf you have specific questions or concerns you’d like addressed during the session\, you can submit them on the registration form or by emailing NCIL Director of Advocacy and Public Policy Jessica Podesva at jessica@ncil.org. \n\n\n\nASL and CART will be provided. If you need accommodations\, please email jessica@ncil.org. \n\n\n\nWe look forward to connecting with you!
URL:https://ncil.org/event/communityfood-insecurity-and-il/
CATEGORIES:NCIL Training On-Demand
ATTACH;FMTTYPE=image/png:https://ncil.org/wp-content/uploads/2025/01/NCIL-LOGO-Square.png
END:VEVENT
END:VCALENDAR