BEGIN:VCALENDAR
VERSION:2.0
PRODID:-//National Council on Independent Living - ECPv6.15.20//NONSGML v1.0//EN
CALSCALE:GREGORIAN
METHOD:PUBLISH
X-WR-CALNAME:National Council on Independent Living
X-ORIGINAL-URL:https://ncil.org
X-WR-CALDESC:Events for National Council on Independent Living
REFRESH-INTERVAL;VALUE=DURATION:PT1H
X-Robots-Tag:noindex
X-PUBLISHED-TTL:PT1H
BEGIN:VTIMEZONE
TZID:America/Detroit
BEGIN:DAYLIGHT
TZOFFSETFROM:-0500
TZOFFSETTO:-0400
TZNAME:EDT
DTSTART:20210314T070000
END:DAYLIGHT
BEGIN:STANDARD
TZOFFSETFROM:-0400
TZOFFSETTO:-0500
TZNAME:EST
DTSTART:20211107T060000
END:STANDARD
BEGIN:DAYLIGHT
TZOFFSETFROM:-0500
TZOFFSETTO:-0400
TZNAME:EDT
DTSTART:20220313T070000
END:DAYLIGHT
BEGIN:STANDARD
TZOFFSETFROM:-0400
TZOFFSETTO:-0500
TZNAME:EST
DTSTART:20221106T060000
END:STANDARD
BEGIN:DAYLIGHT
TZOFFSETFROM:-0500
TZOFFSETTO:-0400
TZNAME:EDT
DTSTART:20230312T070000
END:DAYLIGHT
BEGIN:STANDARD
TZOFFSETFROM:-0400
TZOFFSETTO:-0500
TZNAME:EST
DTSTART:20231105T060000
END:STANDARD
END:VTIMEZONE
BEGIN:VEVENT
DTSTART;TZID=America/Detroit:20220321T130000
DTEND;TZID=America/Detroit:20220321T140000
DTSTAMP:20260424T104018
CREATED:20240807T160751Z
LAST-MODIFIED:20241021T152949Z
UID:10000066-1647867600-1647871200@ncil.org
SUMMARY:Webinar: Campaigning with a Disability
DESCRIPTION:Transcript\n\n\n\n\nWe need more people with disabilities representing our communities in elected positions. But the process of running for an elected position can be inaccessible\, intimidating\, and unclear. Join this webinar to learn about the process of campaigning from people with disabilities who have done it! \n\n\n\nThis webinar is co-hosted by the REV UP Voting Campaign at the American Association of People with Disabilities and the National Council on Independent Living (NCIL). The webinar will include a presentation from Sarah Blahovec\, Voting and Civic Engagement Director at NCIL. \n\n\n\nThis webinar will include ASL and live captioning. For additional accommodations or to request Spanish captions or audio\, contact Lilian Aluri at laluri@aapd.com as soon as possible.
URL:https://ncil.org/event/webinar-campaigning-with-a-disability/
CATEGORIES:Members Only Content,NCIL Training On-Demand
ATTACH;FMTTYPE=image/png:https://ncil.org/wp-content/uploads/2024/10/Members-Only-Content.png
ORGANIZER;CN="NCIL":MAILTO:ncil@ncil.org
END:VEVENT
END:VCALENDAR