BEGIN:VCALENDAR
VERSION:2.0
PRODID:-//National Council on Independent Living - ECPv6.15.20//NONSGML v1.0//EN
CALSCALE:GREGORIAN
METHOD:PUBLISH
X-WR-CALNAME:National Council on Independent Living
X-ORIGINAL-URL:https://ncil.org
X-WR-CALDESC:Events for National Council on Independent Living
REFRESH-INTERVAL;VALUE=DURATION:PT1H
X-Robots-Tag:noindex
X-PUBLISHED-TTL:PT1H
BEGIN:VTIMEZONE
TZID:America/Detroit
BEGIN:DAYLIGHT
TZOFFSETFROM:-0500
TZOFFSETTO:-0400
TZNAME:EDT
DTSTART:20210314T070000
END:DAYLIGHT
BEGIN:STANDARD
TZOFFSETFROM:-0400
TZOFFSETTO:-0500
TZNAME:EST
DTSTART:20211107T060000
END:STANDARD
BEGIN:DAYLIGHT
TZOFFSETFROM:-0500
TZOFFSETTO:-0400
TZNAME:EDT
DTSTART:20220313T070000
END:DAYLIGHT
BEGIN:STANDARD
TZOFFSETFROM:-0400
TZOFFSETTO:-0500
TZNAME:EST
DTSTART:20221106T060000
END:STANDARD
BEGIN:DAYLIGHT
TZOFFSETFROM:-0500
TZOFFSETTO:-0400
TZNAME:EDT
DTSTART:20230312T070000
END:DAYLIGHT
BEGIN:STANDARD
TZOFFSETFROM:-0400
TZOFFSETTO:-0500
TZNAME:EST
DTSTART:20231105T060000
END:STANDARD
END:VTIMEZONE
BEGIN:VEVENT
DTSTART;TZID=America/Detroit:20221109T130000
DTEND;TZID=America/Detroit:20221109T140000
DTSTAMP:20260423T204622
CREATED:20240729T005124Z
LAST-MODIFIED:20241021T183337Z
UID:10000053-1667998800-1668002400@ncil.org
SUMMARY:Regional IL Showcase Archives
DESCRIPTION:Archive: \n\n\n\n\nArchived webinar\n\n\n\nTranscript (Word)\n\n\n\n\nPresenters: \n\n\n\n\nBill Henning\, Boston Center for Independent Living – Bill will share their state’s successful legislative campaign to add significant state funding for CILs.\n\n\n\nPeter Johnke\, Vermont Center for Independent Living – Peter will describe VCIL’s successful rural transportation program.\n\n\n\nSharif Brown\, Alliance of Disability Advocates (Raleigh\, NC) – Sharif will present their prison reentry program called ADA Reentry.
URL:https://ncil.org/event/regional-il-showcase-archives-3/
CATEGORIES:Members Only Content,NCIL Training On-Demand
ATTACH;FMTTYPE=image/png:https://ncil.org/wp-content/uploads/2024/10/Members-Only-Content.png
ORGANIZER;CN="NCIL":MAILTO:ncil@ncil.org
END:VEVENT
END:VCALENDAR