BEGIN:VCALENDAR
VERSION:2.0
PRODID:-//National Council on Independent Living - ECPv6.15.20//NONSGML v1.0//EN
CALSCALE:GREGORIAN
METHOD:PUBLISH
X-ORIGINAL-URL:https://ncil.org
X-WR-CALDESC:Events for National Council on Independent Living
REFRESH-INTERVAL;VALUE=DURATION:PT1H
X-Robots-Tag:noindex
X-PUBLISHED-TTL:PT1H
BEGIN:VTIMEZONE
TZID:America/Detroit
BEGIN:DAYLIGHT
TZOFFSETFROM:-0500
TZOFFSETTO:-0400
TZNAME:EDT
DTSTART:20220313T070000
END:DAYLIGHT
BEGIN:STANDARD
TZOFFSETFROM:-0400
TZOFFSETTO:-0500
TZNAME:EST
DTSTART:20221106T060000
END:STANDARD
BEGIN:DAYLIGHT
TZOFFSETFROM:-0500
TZOFFSETTO:-0400
TZNAME:EDT
DTSTART:20230312T070000
END:DAYLIGHT
BEGIN:STANDARD
TZOFFSETFROM:-0400
TZOFFSETTO:-0500
TZNAME:EST
DTSTART:20231105T060000
END:STANDARD
BEGIN:DAYLIGHT
TZOFFSETFROM:-0500
TZOFFSETTO:-0400
TZNAME:EDT
DTSTART:20240310T070000
END:DAYLIGHT
BEGIN:STANDARD
TZOFFSETFROM:-0400
TZOFFSETTO:-0500
TZNAME:EST
DTSTART:20241103T060000
END:STANDARD
END:VTIMEZONE
BEGIN:VEVENT
DTSTART;TZID=America/Detroit:20230213T140000
DTEND;TZID=America/Detroit:20230213T153000
DTSTAMP:20260423T165000
CREATED:20240724T174110Z
LAST-MODIFIED:20240729T032534Z
UID:10000051-1676296800-1676302200@ncil.org
SUMMARY:5 for 5: Independent Living Budget Increase Campaign Launch
DESCRIPTION:Archive: \n\n\n\n\nArchived webinar\n\n\n\nTranscript (Word)\n\n\n\nPresentation (PDF)\n\n\n\nPresentation (plain text)\n\n\n\nPresentation (audio)\n\n\n\n\nJoin NCIL as we launch our new advocacy campaign\, 5 for 5! We are asking Congress for $500 million to support Independent Living Services. Join us to hear more about this effort and how you can help! \n\n\n\nAgenda \n\n\n\n\nWelcome\n\n\n\nThe importance of Centers for Independent Living to our community  \n\n\n\nCurrent IL funding and appropriations process\n\n\n\nHow you can help!\n\n\n\n\nVisit 5for5campaign.com or reach out to jessica@ncil.org for more information.
URL:https://ncil.org/event/5-for-5-independent-living-budget-increase-campaign-launch/
CATEGORIES:NCIL Training On-Demand
ATTACH;FMTTYPE=image/png:https://ncil.org/wp-content/uploads/2024/06/5-for-5-logo-3.png
ORGANIZER;CN="NCIL":MAILTO:ncil@ncil.org
END:VEVENT
END:VCALENDAR