BEGIN:VCALENDAR
VERSION:2.0
PRODID:-//National Council on Independent Living - ECPv6.15.20//NONSGML v1.0//EN
CALSCALE:GREGORIAN
METHOD:PUBLISH
X-WR-CALNAME:National Council on Independent Living
X-ORIGINAL-URL:https://ncil.org
X-WR-CALDESC:Events for National Council on Independent Living
REFRESH-INTERVAL;VALUE=DURATION:PT1H
X-Robots-Tag:noindex
X-PUBLISHED-TTL:PT1H
BEGIN:VTIMEZONE
TZID:America/Detroit
BEGIN:DAYLIGHT
TZOFFSETFROM:-0500
TZOFFSETTO:-0400
TZNAME:EDT
DTSTART:20220313T070000
END:DAYLIGHT
BEGIN:STANDARD
TZOFFSETFROM:-0400
TZOFFSETTO:-0500
TZNAME:EST
DTSTART:20221106T060000
END:STANDARD
BEGIN:DAYLIGHT
TZOFFSETFROM:-0500
TZOFFSETTO:-0400
TZNAME:EDT
DTSTART:20230312T070000
END:DAYLIGHT
BEGIN:STANDARD
TZOFFSETFROM:-0400
TZOFFSETTO:-0500
TZNAME:EST
DTSTART:20231105T060000
END:STANDARD
BEGIN:DAYLIGHT
TZOFFSETFROM:-0500
TZOFFSETTO:-0400
TZNAME:EDT
DTSTART:20240310T070000
END:DAYLIGHT
BEGIN:STANDARD
TZOFFSETFROM:-0400
TZOFFSETTO:-0500
TZNAME:EST
DTSTART:20241103T060000
END:STANDARD
END:VTIMEZONE
BEGIN:VEVENT
DTSTART;TZID=America/Detroit:20230523T140000
DTEND;TZID=America/Detroit:20230523T150000
DTSTAMP:20260423T125534
CREATED:20240724T032229Z
LAST-MODIFIED:20241021T153027Z
UID:10000047-1684850400-1684854000@ncil.org
SUMMARY:Rally to Protect Medicaid
DESCRIPTION:Archive \n\n\n\n\nWebinar recording\n\n\n\nTranscript (Word)\n\n\n\n\nNCIL and other organizations have been meeting with Congressional offices telling them to back off Medicaid\, but we need your help! \n\n\n\nThe U.S. House of Representatives’ bill passed on April 26 includes radical work requirements for Medicaid enrollees ages 19 to 55 in exchange for lifting the debt ceiling. \n\n\n\nWe need to tell Congress to keep Medicaid OUT of debt ceiling negotiations. \n\n\n\nPeople with disabilities rely on Medicaid home and community-based services (HCBS) to live independently in their communities and NOT IN NURSING HOMES! \n\n\n\nCuts to Medicaid and the proposed work requirements would cause more red tape and would make it even harder for people with disabilities\, their families\, and the workers who support them to access the care they need to survive. \n\n\n\n\nFind your Representative: congress.gov/members/find-your-member\n\n\n\n\nRally to Protect Medicaid \n\n\n\nNCIL will also be hosting an online rally on Tuesday\, May 23 from 2:00 – 3:00 p.m. Eastern. \n\n\n\nCART and ASL will be provided. If you need any additional accommodations\, please contact Jenny Sichel at jenny@ncil.org.
URL:https://ncil.org/event/rally-to-protect-medicaid/
ATTACH;FMTTYPE=image/jpeg:https://ncil.org/wp-content/uploads/2024/07/ncil-logomark-event.jpg
ORGANIZER;CN="NCIL":MAILTO:ncil@ncil.org
END:VEVENT
END:VCALENDAR