BEGIN:VCALENDAR
VERSION:2.0
PRODID:-//National Council on Independent Living - ECPv6.15.20//NONSGML v1.0//EN
CALSCALE:GREGORIAN
METHOD:PUBLISH
X-ORIGINAL-URL:https://ncil.org
X-WR-CALDESC:Events for National Council on Independent Living
REFRESH-INTERVAL;VALUE=DURATION:PT1H
X-Robots-Tag:noindex
X-PUBLISHED-TTL:PT1H
BEGIN:VTIMEZONE
TZID:America/Detroit
BEGIN:DAYLIGHT
TZOFFSETFROM:-0500
TZOFFSETTO:-0400
TZNAME:EDT
DTSTART:20230312T070000
END:DAYLIGHT
BEGIN:STANDARD
TZOFFSETFROM:-0400
TZOFFSETTO:-0500
TZNAME:EST
DTSTART:20231105T060000
END:STANDARD
BEGIN:DAYLIGHT
TZOFFSETFROM:-0500
TZOFFSETTO:-0400
TZNAME:EDT
DTSTART:20240310T070000
END:DAYLIGHT
BEGIN:STANDARD
TZOFFSETFROM:-0400
TZOFFSETTO:-0500
TZNAME:EST
DTSTART:20241103T060000
END:STANDARD
BEGIN:DAYLIGHT
TZOFFSETFROM:-0500
TZOFFSETTO:-0400
TZNAME:EDT
DTSTART:20250309T070000
END:DAYLIGHT
BEGIN:STANDARD
TZOFFSETFROM:-0400
TZOFFSETTO:-0500
TZNAME:EST
DTSTART:20251102T060000
END:STANDARD
END:VTIMEZONE
BEGIN:VEVENT
DTSTART;TZID=America/Detroit:20240507T130000
DTEND;TZID=America/Detroit:20240507T140000
DTSTAMP:20260422T201428
CREATED:20241118T214417Z
LAST-MODIFIED:20241118T214419Z
UID:10000126-1715086800-1715090400@ncil.org
SUMMARY:Employment Resource Hub Peer Call
DESCRIPTION:Archive: \n\n\n\n\nNo archive available\n\n\n\n\nRegister \n\n\n\nRegister for the monthly Peer Network Calls \n\n\n\nAnnouncements \n\n\n\nNCIL’s Employment Resource Hub and Peer Network will be a one-stop resource center to support people living with paralysis and other disabilities to access community and employment resources.  \n\n\n\n\nNCIL to Launch Employment Resource Hub and Peer Network with Christopher & Dana Reeve Foundation Quality of Life Grant\n\n\n\n\nMonthly Meetings \n\n\n\nEach peer network call will cover a resource that people with disabilities can use to support their employment journey. The Employment Resource Hub and Peer Network is designed for individuals with disabilities\, including individuals living with paralysis and the Independent Living community. We also invite peer advocates\, IL Skills Trainers or other IL staff seeking to learn how to use different employment tools in order to provide peer support to consumers. 
URL:https://ncil.org/event/employment-resource-hub-peer-call/
CATEGORIES:Employment Resource Hub,NCIL Training On-Demand
ATTACH;FMTTYPE=image/png:https://ncil.org/wp-content/uploads/2024/04/Employment-Resource-Hub-Logo.png
ORGANIZER;CN="NCIL":MAILTO:ncil@ncil.org
END:VEVENT
BEGIN:VEVENT
DTSTART;TZID=America/Detroit:20240530T143000
DTEND;TZID=America/Detroit:20240530T153000
DTSTAMP:20260422T201428
CREATED:20240723T233252Z
LAST-MODIFIED:20240729T154354Z
UID:10000034-1717079400-1717083000@ncil.org
SUMMARY:NCIL and HelloFresh Present: Community Conversations – Fresh\, Accessible\, Affordable Meal Solutions
DESCRIPTION:Archive: \n\n\n\n\nArchived webinar\n\n\n\nTranscript (Word)\n\n\n\nPresentation (PDF)\n\n\n\nPresentation (Word)\n\n\n\n\nJoin NCIL and HelloFresh for a community conversation on how Centers for Independent Living can support people with disabilities to access fresh\, accessible\, and affordable meal solutions! \n\n\n\nIn this community conversation\, we want to hear from you about successful food access programs and partnerships and barriers and needs in your community. \n\n\n\nNCIL and HelloFresh will announce their partnership and a new NCIL member benefit! NCIL members will receive a discount code for HelloFresh products. \n\n\n\nAudience: Staff and Management of Centers for Independent Living\, people with disabilities\, and other disability-focused non-profits. \n\n\n\nPresenters: \n\n\n\n\nEmily Antin\, Senior Sales Representative\, HelloFresh\n\n\n\n\nThis community conversation will be moderated by Mary-Kate Wells\, Program Director\, National Council on Independent Living. \n\n\n\nRegistration Fee: This event is free-of-charge. \n\n\n\nASL and CART will be provided. If you need any accommodations or have any questions\, please contact Mary-Kate Wells at Mary-Kate@ncil.org.
URL:https://ncil.org/event/ncil-and-hellofresh-present-community-conversations-fresh-accessible-affordable-meal-solutions/
CATEGORIES:NCIL Training On-Demand
ATTACH;FMTTYPE=image/jpeg:https://ncil.org/wp-content/uploads/2024/07/ncil-hello-fresh.jpg
ORGANIZER;CN="NCIL":MAILTO:ncil@ncil.org
END:VEVENT
END:VCALENDAR