BEGIN:VCALENDAR
VERSION:2.0
PRODID:-//National Council on Independent Living - ECPv6.15.20//NONSGML v1.0//EN
CALSCALE:GREGORIAN
METHOD:PUBLISH
X-ORIGINAL-URL:https://ncil.org
X-WR-CALDESC:Events for National Council on Independent Living
REFRESH-INTERVAL;VALUE=DURATION:PT1H
X-Robots-Tag:noindex
X-PUBLISHED-TTL:PT1H
BEGIN:VTIMEZONE
TZID:America/Detroit
BEGIN:DAYLIGHT
TZOFFSETFROM:-0500
TZOFFSETTO:-0400
TZNAME:EDT
DTSTART:20230312T070000
END:DAYLIGHT
BEGIN:STANDARD
TZOFFSETFROM:-0400
TZOFFSETTO:-0500
TZNAME:EST
DTSTART:20231105T060000
END:STANDARD
BEGIN:DAYLIGHT
TZOFFSETFROM:-0500
TZOFFSETTO:-0400
TZNAME:EDT
DTSTART:20240310T070000
END:DAYLIGHT
BEGIN:STANDARD
TZOFFSETFROM:-0400
TZOFFSETTO:-0500
TZNAME:EST
DTSTART:20241103T060000
END:STANDARD
BEGIN:DAYLIGHT
TZOFFSETFROM:-0500
TZOFFSETTO:-0400
TZNAME:EDT
DTSTART:20250309T070000
END:DAYLIGHT
BEGIN:STANDARD
TZOFFSETFROM:-0400
TZOFFSETTO:-0500
TZNAME:EST
DTSTART:20251102T060000
END:STANDARD
END:VTIMEZONE
BEGIN:VEVENT
DTSTART;TZID=America/Detroit:20241008T160000
DTEND;TZID=America/Detroit:20241008T170000
DTSTAMP:20260422T132103
CREATED:20241001T185122Z
LAST-MODIFIED:20241118T215617Z
UID:10000097-1728403200-1728406800@ncil.org
SUMMARY:A Self-Advocate’s Guide to Employment Policy
DESCRIPTION:Archive \n\n\n\n\nWebinar recording\n\n\n\nPresentation (PDF)\n\n\n\nPresentation (Word)\n\n\n\n\nJoin the National Council on Independent Living (NCIL) and the Autistic Self-Advocacy Network (ASAN) for a webinar for people with disabilities and self-advocates. This webinar will cover the ASAN’s toolkit\, Real Work For Real Pay: A Self-Advocate’s Guide to Employment Policy. \n\n\n\nThis webinar will answer the questions: \n\n\n\n\nWhat are the goals of disability employment policy?\n\n\n\nWhat are some current issues that disability employment policy addresses?\n\n\n\nWhat can self-advocates do to positively influence policy?\n\n\n\n\nIf you need any accommodations\, please reach out to Mary-Kate Wells at Mary-Kate@ncil.org. ASL and CART will be provided. \n\n\n\nThis training is part of NCIL’s Employment Resource Hub and Peer Network Project with the Christopher and Dana Reeve Foundation.
URL:https://ncil.org/event/a-self-advocates-guide-to-employment-policy/
CATEGORIES:Employment Resource Hub,NCIL Training On-Demand
ATTACH;FMTTYPE=image/jpeg:https://ncil.org/wp-content/uploads/2024/07/ncil-logomark-event.jpg
ORGANIZER;CN="NCIL":MAILTO:ncil@ncil.org
END:VEVENT
BEGIN:VEVENT
DTSTART;TZID=America/Detroit:20241010T150000
DTEND;TZID=America/Detroit:20241010T163000
DTSTAMP:20260422T132103
CREATED:20250213T202819Z
LAST-MODIFIED:20251030T151721Z
UID:10000137-1728572400-1728577800@ncil.org
SUMMARY:Accelerating Housing and Services Partnerships to Advance Housing Stability: Centers for Independent Living (CILs)
DESCRIPTION:This Housing and Services Resource Center (HSRC) webinar features NCIL Director of Programs Mary-Kate Wells. \n\n\n\n\nWebinar recording\n\n\n\nMore information\n\n\n\n\nA growing number of states are leveraging new opportunities under Medicaid to cover services and supports that help people find\, obtain\, and maintain their housing. In 2024\, the Housing and Services Resource Center (HSRC) launched the Housing and Services Partnership Accelerator (HSPA) to advance innovative state strategies to provide housing-related services and supports to Medicaid-eligible people with disabilities and older adults who are at risk of or presently experiencing homelessness. \n\n\n\nThis webinar highlights how Independent Living (IL) community organizations in three different HSPA states are providing housing-related services and supports to people with disabilities. Centers for Independent Living (CILs) can be a valuable asset to cross-sector collaborations seeking to enhance housing stability. Presenters will discuss partnerships\, funding\, and best practices.
URL:https://ncil.org/event/accelerating-housing-and-services-partnerships-to-advance-housing-stability-centers-for-independent-living-cils/
CATEGORIES:Members Only Content,NCIL Training On-Demand
ATTACH;FMTTYPE=image/jpeg:https://ncil.org/wp-content/uploads/2024/11/acl-logo.jpg
END:VEVENT
BEGIN:VEVENT
DTSTART;TZID=America/Detroit:20241030T130000
DTEND;TZID=America/Detroit:20241030T140000
DTSTAMP:20260422T132103
CREATED:20241016T144059Z
LAST-MODIFIED:20241118T215421Z
UID:10000099-1730293200-1730296800@ncil.org
SUMMARY:ABLE Accounts and Employment 101!
DESCRIPTION:Archive: \n\n\n\n\nWebinar recording\n\n\n\nTranscript (Word)\n\n\n\n\nJoin NCIL and the ABLE National Resource Center for a webinar for people with disabilities to learn more about the Achieving a Better Life Experience (ABLE) Act and ABLE accounts. \n\n\n\nABLE accounts can help qualified individuals with disabilities to save money in a tax-exempt account without affecting most federally-funded benefits that are based on need. \n\n\n\nIn this webinar\, the ABLE National Resource Center will provide information on ABLE accounts\, how they can be used to support your employment journey\, eligibility requirements\, and new and exciting updates in the ABLE Age Adjustment Act. \n\n\n\nLearn more about the ABLE National Resource Center at: ablenrc.org. \n\n\n\nTarget Audience: Everyone! Persons with disabilities\, including people living with paralysis\, disability advocates\, employers\, and family members of persons with disabilities. \n\n\n\nASL and CART will be provided. To request additional accommodations or to ask questions\, please contact Mary-Kate: mary-kate@ncil.org \n\n\n\nNEW DATES: Employment Resource Hub Peer Calls \n\n\n\nRegister for the Employment Resource Hub Peer Calls \n\n\n\nWe have updated the dates and times of the three remaining Employment Resource Hub Peer Calls. \n\n\n\n\nSystems Advocacy and Employment Peer Call: October 29\,2024; 2:00 p.m. Eastern\n\n\n\nAssistive Technology: November 12\, 2024; 2:00 p.m. Eastern\n\n\n\nNCIL’s Employment Resource Hub Tutorial: December 10\, 2024; 2:00 p.m. Eastern\n\n\n\n\nThese trainings are part of NCIL’s Employment Resource Hub and Peer Network Project with the Christopher and Dana Reeve Foundation.
URL:https://ncil.org/event/able-accounts-and-employment-101/
CATEGORIES:Employment Resource Hub,NCIL Training On-Demand
ATTACH;FMTTYPE=image/png:https://ncil.org/wp-content/uploads/2024/10/Employment-Resource-Hub-Logo-Square.png
ORGANIZER;CN="NCIL":MAILTO:ncil@ncil.org
END:VEVENT
END:VCALENDAR