BEGIN:VCALENDAR
VERSION:2.0
PRODID:-//National Council on Independent Living - ECPv6.15.20//NONSGML v1.0//EN
CALSCALE:GREGORIAN
METHOD:PUBLISH
X-WR-CALNAME:National Council on Independent Living
X-ORIGINAL-URL:https://ncil.org
X-WR-CALDESC:Events for National Council on Independent Living
REFRESH-INTERVAL;VALUE=DURATION:PT1H
X-Robots-Tag:noindex
X-PUBLISHED-TTL:PT1H
BEGIN:VTIMEZONE
TZID:America/Detroit
BEGIN:DAYLIGHT
TZOFFSETFROM:-0500
TZOFFSETTO:-0400
TZNAME:EDT
DTSTART:20240310T070000
END:DAYLIGHT
BEGIN:STANDARD
TZOFFSETFROM:-0400
TZOFFSETTO:-0500
TZNAME:EST
DTSTART:20241103T060000
END:STANDARD
BEGIN:DAYLIGHT
TZOFFSETFROM:-0500
TZOFFSETTO:-0400
TZNAME:EDT
DTSTART:20250309T070000
END:DAYLIGHT
BEGIN:STANDARD
TZOFFSETFROM:-0400
TZOFFSETTO:-0500
TZNAME:EST
DTSTART:20251102T060000
END:STANDARD
BEGIN:DAYLIGHT
TZOFFSETFROM:-0500
TZOFFSETTO:-0400
TZNAME:EDT
DTSTART:20260308T070000
END:DAYLIGHT
BEGIN:STANDARD
TZOFFSETFROM:-0400
TZOFFSETTO:-0500
TZNAME:EST
DTSTART:20261101T060000
END:STANDARD
END:VTIMEZONE
BEGIN:VEVENT
DTSTART;TZID=America/Detroit:20251205T150000
DTEND;TZID=America/Detroit:20251205T163000
DTSTAMP:20260421T171306
CREATED:20251201T201139Z
LAST-MODIFIED:20251201T201141Z
UID:10000168-1764946800-1764952200@ncil.org
SUMMARY:Urgent: Independent Living Program Executive Directors Meeting
DESCRIPTION:Register online \n\n\n\nAudience: This meeting is for Executive Directors (or equivalent) of Centers for Independent Living and Statewide Independent Living Councils to discuss urgent updates related to federal funding. \n\n\n\nAgenda \n\n\n\n\nDiscuss time sensitive federal funding updates\n\n\n\nState-level updates from participants\n\n\n\nOpen discussion and next steps\n\n\n\n\nContact \n\n\n\nASL and CART will be provided. If you have any questions or if you need any accommodations\, please contact NCIL Director of Advocacy and Public Policy Jessica Podesva at jessica@ncil.org.
URL:https://ncil.org/event/urgent-independent-living-program-executive-directors-meeting/
ATTACH;FMTTYPE=image/png:https://ncil.org/wp-content/uploads/2025/12/Urgent-ED-Meeting-Square-scaled.png
END:VEVENT
BEGIN:VEVENT
DTSTART;TZID=America/Detroit:20251219T150000
DTEND;TZID=America/Detroit:20251219T160000
DTSTAMP:20260421T171306
CREATED:20251210T201432Z
LAST-MODIFIED:20251210T201434Z
UID:10000169-1766156400-1766160000@ncil.org
SUMMARY:The Right Information at the Right Time: Findings on I&R/A Collaboration
DESCRIPTION:Register online \n\n\n\nJoin National I&R Support Center for the webinar: The Right Information at the Right Time: Findings on I&R/A Collaboration. \n\n\n\nThis session will highlight insights from the national Information & Referral/Assistance (I&R/A) survey and practices across aging and disability networks. The webinar will explore how I&R/A programs collaborate with partners within the I&R sector and with health and human service providers to strengthen referrals and access to services. Participants will gain an understanding of the elements that support collaboration\, the roles of I&R/A programs in consumer access systems\, and the impacts on service delivery for individuals seeking information\, resources\, and assistance. \n\n\n\nPresenters: \n\n\n\nMary-Kate Wells\, Director of Programs\, The National Council on Independent Living \n\n\n\nNanette Relave\, Senior Director\, National I&R Support Center\, ADvancing States \n\n\n\nPre-registration is required for this webinar. Space is limited so make sure to register as soon as possible.
URL:https://ncil.org/event/the-right-information-at-the-right-time-findings-on-ir-a-collaboration/
ATTACH;FMTTYPE=image/png:https://ncil.org/wp-content/uploads/2025/12/National-Information-and-Referral-Support-Center-Logo.png
END:VEVENT
END:VCALENDAR